Workbook

Sheet EMOP 03-2026
A1: CODIGO | B1: DESCRIÇÃO | C1: UNID | D1: CUSTO
A2: 01.001.0001-0 | B2: LIMITE DE PLASTICIDADE | C2: UN | D2: 205.08
A3: 01.001.0001-A | B3: LIMITE DE PLASTICIDADE | C3: UN | D3: 196.18
A4: 01.001.0002-0 | B4: LIMITE DE LIQUIDEZ | C4: UN | D4: 205.08
A5: 01.001.0002-A | B5: LIMITE DE LIQUIDEZ | C5: UN | D5: 196.18
A6: 01.001.0003-0 | B6: LIMITE DE CONTRACAO | C6: UN | D6: 119.72
A7: 01.001.0003-A | B7: LIMITE DE CONTRACAO | C7: UN | D7: 114.52
A8: 01.001.0004-0 | B8: ANALISE GRANULOMETRICA SEM SEDIMENTACAO (PENEIRAMENTO) | C8: UN | D8: 231.27
A9: 01.001.0004-A | B9: ANALISE GRANULOMETRICA SEM SEDIMENTACAO (PENEIRAMENTO) | C9: UN | D9: 221.23
A10: 01.001.0005-0 | B10: ANALISE GRANULOMETRICA COM SEDIMENTACAO | C10: UN | D10: 536.84
A11: 01.001.0005-A | B11: ANALISE GRANULOMETRICA COM SEDIMENTACAO | C11: UN | D11: 513.55
A12: 01.001.0006-0 | B12: MASSA ESPECIFICA REAL | C12: UN | D12: 283.2
A13: 01.001.0006-A | B13: MASSA ESPECIFICA REAL | C13: UN | D13: 270.91
... A1949: 01.050.1002-A | B1949: PROJETO DE AS BUILT PARA SISTEMA DE EXAUSTAO MECANICA DE COZINHA,COM AREA ACIMA DE 100M2,APRESENTADO NOS PADROES DA CONTRATANTE | C1949: UN | D1949: 360.09
A1950: 01.050.9999-0 | B1950: FAMILIA 01.050PROJETOS E CONSULTORIA | D1950: 6925
A1951: 01.050.9999-A | B1951: FAMILIA 01.050PROJETOS E CONSULTORIA | D1951: 6844
A1952: 02.001.0001-0 | B1952: TAPUME DE VEDACAO OU PROTECAO,EXECUTADO C/CHAPAS DE MADEIRACOMPENSADA,RESINADA,LISA,DE COLAGEM FENOLICA,A PROVA D`AGUA,COM 2,20X1,10M E 6MM DE ESPESSURA,PREGADAS EM PECAS DE MADEIRA DE 3ª DE 3"X3" HORIZONTAIS E VERTICAIS A CADA 1,22M,EXCLUSIVE PINTURA | C1952: M2 | D1952: 77.25
A1953: 02.001.0001-A | B1953: TAPUME DE VEDACAO OU PROTECAO,EXECUTADO C/CHAPAS DE MADEIRACOMPENSADA,RESINADA,LISA,DE COLAGEM FENOLICA,A PROVA D`AGUA,COM 2,20X1,10M E 6MM DE ESPESSURA,PREGADAS EM PECAS DE MADEIRA DE 3ª DE 3"X3" HORIZONTAIS E VERTICAIS A CADA 1,22M,EXCLUSIVE PINTURA | C1953: M2 | D1953: 74.34
A1954: 02.001.0002-0 | B1954: TAPUME DE VEDACAO OU PROTECAO,EXECUTADO C/CHAPAS DE MADEIRACOMPENSADA,RESINADA,LISA,DE COLAGEM FENOLICA,A PROVA D`AGUA,COM 2,20X1,10M E 6MM DE ESPESSURA,PREGADAS EM PECAS DE MADEIRA DE 3ª DE 3"X3" HORIZONTAIS E VERTICAIS A CADA 1,22M,EXCLUSIVE PINTURA,COM UTILIZACAO 2 VEZES | C1954: M2 | D1954: 60.4
A1955: 02.001.0002-A | B1955: TAPUME DE VEDACAO OU PROTECAO,EXECUTADO C/CHAPAS DE MADEIRACOMPENSADA,RESINADA,LISA,DE COLAGEM FENOLICA,A PROVA D`AGUA,COM 2,20X1,10M E 6MM DE ESPESSURA,PREGADAS EM PECAS DE MADEIRA DE 3ª DE 3"X3" HORIZONTAIS E VERTICAIS A CADA 1,22M,EXCLUSIVE PINTURA,COM UTILIZACAO 2 VEZES | C1955: M2 | D1955: 57.48
A1956: 02.001.0003-0 | B1956: TAPUME DE VEDACAO OU PROTECAO,EXECUTADO COM CHAPAS DE MADEIRA COMPENSADA,RESINADA,LISA,DE COLAGEM FENOLICA,A PROVA D'AGUA,COM 2,20X1,10M E 10MM DE ESPESSURA,PREGADAS EM PECAS DE MADEIRA DE 3ª DE 3"X3" HORIZONTAIS E VERTICAIS A CADA 1,22M,EXCLUSIVE PINTURA,COM REAPROVEITAMENTO 10 VEZES DE TODAS AS PECAS DE MADEIRA | C1956: M2 | D1956: 48.65
A1957: 02.001.0003-A | B1957: TAPUME DE VEDACAO OU PROTECAO,EXECUTADO COM CHAPAS DE MADEIRA COMPENSADA,RESINADA,LISA,DE COLAGEM FENOLICA,A PROVA D'AGUA,COM 2,20X1,10M E 10MM DE ESPESSURA,PREGADAS EM PECAS DE MADEIRA DE 3ª DE 3"X3" HORIZONTAIS E VERTICAIS A CADA 1,22M,EXCLUSIVE PINTURA,COM REAPROVEITAMENTO 10 VEZES DE TODAS AS PECAS DE MADEIRA | C1957: M2 | D1957: 45.73
A1958: 02.002.0005-0 | B1958: TAPUME DE VEDACAO OU PROTECAO,EXECUTADO COM TELHAS TRAPEZOIDAIS DE ACO GALVANIZADO,ESPESSURA DE 0,5MM,ESTAS COM 4 VEZESDE UTILIZACAO,INCLUSIVE ENGRADAMENTO DE MADEIRA,UTILIZADO 2VEZES E PINTURA ESMALTE SINTETICO NA FACE EXTERNA | C1958: M2 | D1958: 42.19
A1959: 02.002.0005-A | B1959: TAPUME DE VEDACAO OU PROTECAO,EXECUTADO COM TELHAS TRAPEZOIDAIS DE ACO GALVANIZADO,ESPESSURA DE 0,5MM,ESTAS COM 4 VEZESDE UTILIZACAO,INCLUSIVE ENGRADAMENTO DE MADEIRA,UTILIZADO 2VEZES E PINTURA ESMALTE SINTETICO NA FACE EXTERNA | C1959: M2 | D1959: 41.05
A1960: 02.002.0006-0 | B1960: TAPUME DE VEDACAO OU PROTECAO EXECUTADO COM TELHAS TRAPEZOIDAIS DE ACO GALVANIZADO,ESPESSURA DE 0,5MM,ESTAS COM 4 VEZESDE UTILIZACAO,INCLUSIVE ENGRADAMENTO DE MADEIRA,UTILIZADO 2VEZES E PINTURA ESMALTE SINTETICO NAS FACES INTERNA E EXTERNA | C1960: M2 | D1960: 53.4
A1961: 02.002.0006-A | B1961: TAPUME DE VEDACAO OU PROTECAO EXECUTADO COM TELHAS TRAPEZOIDAIS DE ACO GALVANIZADO,ESPESSURA DE 0,5MM,ESTAS COM 4 VEZESDE UTILIZACAO,INCLUSIVE ENGRADAMENTO DE MADEIRA,UTILIZADO 2VEZES E PINTURA ESMALTE SINTETICO NAS FACES INTERNA E EXTERNA | C1961: M2 | D1961: 51.86
A1962: 02.002.0007-0 | B1962: TAPUME DE VEDACAO OU PROTECAO EXECUTADO COM TELHAS TRAPEZOIDAIS DE ACO GALVANIZADO,ESPESSURA DE 0,5MM,ESTAS COM 4 VEZESDE UTILIZACAO,INCLUSIVE ENGRADAMENTO DE MADEIRA,UTILIZADO 2VEZES,EXCLUSIVE PINTURA | C1962: M2 | D1962: 30.97
A1963: 02.002.0007-A | B1963: TAPUME DE VEDACAO OU PROTECAO EXECUTADO COM TELHAS TRAPEZOIDAIS DE ACO GALVANIZADO,ESPESSURA DE 0,5MM,ESTAS COM 4 VEZESDE UTILIZACAO,INCLUSIVE ENGRADAMENTO DE MADEIRA,UTILIZADO 2VEZES,EXCLUSIVE PINTURA | C1963: M2 | D1963: 30.24
... A3933: 05.100.0900-A | B3933: UNIDADE REF.P/COMPL.ADM LOCAL,CONSID:CONSUMO AGUA,TEL.ENERGIA ELETR.MAT.LIMPEZA ESCRITORIO,COMPUTADORES LICENCA OBRA,MOVEIS UTENSILIOS,AR COND.BEBEDOURO,ART,RRT,FOTOGRAFIAS,UNIFORMES,DARIAS,EXAMES ADMISSIONAIS,PERIODICOS E DEMISSIONAIS,CURSOS CAPACITACAO/TREINAMENTO ITENS COMPLEMENTEM DESP.NECESS.EXCL.DESP.C/CAFE MANHA,REFEICAO,CESTA BASICA E VALE TRANSPORTE | C3933: UR | D3933: 36.85
A3934: 05.100.9999-0 | B3934: INDICE GERAL DA CONSTRUCAO CIVIL (PREDIOS PUBLICOS) | D3934: 8375
A3935: 05.100.9999-A | B3935: INDICE GERAL DA CONSTRUCAO CIVIL (PREDIOS PUBLICOS) | D3935: 7850
A3936: 05.103.9999-0 | B3936: INDICE GERAL PARA FORNECIMENTO DE MATERIAIS DA CONSTRUCAO CIVIL | D3936: 6266
A3937: 05.103.9999-A | B3937: INDICE GERAL PARA FORNECIMENTO DE MATERIAIS DA CONSTRUCAO CIVIL | D3937: 6266
A3938: 05.105.0100-0 | B3938: MAO-DE-OBRA DE VIGIA,INCLUSIVE ENCARGOS SOCIAIS | C3938: MES | D3938: 3949.44
A3939: 05.105.0100-A | B3939: MAO-DE-OBRA DE VIGIA,INCLUSIVE ENCARGOS SOCIAIS | C3939: MES | D3939: 3687.2
A3940: 05.105.0101-0 | B3940: MAO-DE-OBRA DE MARCENEIRO,INCLUSIVE ENCARGOS SOCIAIS | C3940: MES | D3940: 7164.96
A3941: 05.105.0101-A | B3941: MAO-DE-OBRA DE MARCENEIRO,INCLUSIVE ENCARGOS SOCIAIS | C3941: MES | D3941: 6688
A3942: 05.105.0102-0 | B3942: MAO-DE-OBRA DE SERRALHEIRO DE CONSTRUCAO CIVIL,INCLUSIVE ENCARGOS SOCIAIS | C3942: MES | D3942: 5582.72
A3943: 05.105.0102-A | B3943: MAO-DE-OBRA DE SERRALHEIRO DE CONSTRUCAO CIVIL,INCLUSIVE ENCARGOS SOCIAIS | C3943: MES | D3943: 5211.36
A3944: 05.105.0103-0 | B3944: MAO-DE-OBRA DE PINTOR,INCLUSIVE ENCARGOS SOCIAIS | C3944: MES | D3944: 5186.72
...

Sheet EMOP-I 03-2026
A1: ELEMENTAR | B1: DESCRIÇÃO | C1: UNID | D1: PRECO
A2: 00001 | B2: AREIA LAVADA, GROSSA, PARA REGIAO METROPOLITANA DO RIO DE JANEIRO | C2: M3 | D2: 145
A3: 00002 | B3: ARAME FARPADO GALVANIZADO, 2,1MM (BWG N.14) | C3: KG | D3: 14.1945
A4: 00003 | B4: ARAME GALVANIZADO Nº 18 | C4: KG | D4: 18.93
A5: 00004 | B5: ARAME RECOZIDO Nº 18 | C5: KG | D5: 11.77
A6: 00005 | B6: ARAME GALVANIZADO Nº 16 | C6: KG | D6: 16.63
A7: 00006 | B7: AGUA RAZ MINERAL | C7: L | D7: 18.73
A8: 00007 | B8: CIMENTO ASFALTICO DE PETROLEO, CAP 50/70, A GRANEL | C8: KG | D8: 4.2864
A9: 00008 | B9: ACIDO MURIATICO | C9: L | D9: 5.81
A10: 00009 | B10: BARRA CHATA EM FERRO, PRECO DE REVENDEDOR, DE 1/2"X1/8" A 1.1/4"X1.1/4" | C10: KG | D10: 8.15
A11: 00011 | B11: CANTONEIRA DE ACO DOCE, P/SERRALHERIA, PRECO DE REVENDEDOR, DE 5/8"X1/8" ATE 1.1/2"X1/8" | C11: KG | D11: 8.16
A12: 00022 | B12: ALUMINIO EM PERFIL TUBULAR EXTRUDADO, LIGA COMUM | C12: KG | D12: 34.51
A13: 00036 | B13: PERFIL "H" DE ACO CARBONO, P/USOS GERAIS, PADRAO AMERICANO, COMPRIMENTO USUAL, PRECO DE REVENDEDOR, DE 6"X6" | C13: KG | D13: 9.8
... A5275: 40246 | B5275: PAINEL FRONTAL PARA EVAPORADORA VRF TIPOCASSETE, COM 1 VIA, DE 15 A 24.000 BTU/H, 220/380V | C5275: UN | D5275: 1253.51

Sheet SINAPI 03-2026
A1: Código da Composição | B1: Descrição | C1: Unidade | D1: RJ | E1: SP
A2: 104658 | B2: PISO PODOTÁTIL DE ALERTA OU DIRECIONAL, DE CONCRETO, ASSENTADO SOBRE ARGAMASSA. AF_03/2024 | C2: M2 | D2: 186.1 | E2: 199.12
A3: 105002 | B3: RAMPA DE ACESSIBILIDADE EM CONCRETO MOLDADO IN LOCO, EM CALÇADA NOVA COM LARGURA MAIOR OU IGUAL À 3,00 M, FCK 25MPA, COM PISO PODOTÁTIL. AF_03/2024 | C3: UN | D3: 849.62 | E3: 796.18
A4: 105004 | B4: RAMPA DE ACESSIBILIDADE EM CONCRETO MOLDADO IN LOCO, EM CALÇADA NOVA COM LARGURA MENOR À 3,00 M, FCK 25MPA, COM PISO PODOTÁTIL. AF_03/2024 | C4: M2 | D4: 144.89 | E4: 134.84
A5: 105003 | B5: RAMPA DE ACESSIBILIDADE EM CONCRETO MOLDADO IN LOCO, EM CALÇADA PRÉ EXISTENTE COM LARGURA MAIOR OU IGUAL À 3,00 M, FCK 25MPA, COM PISO PODOTÁTIL. AF_03/2024 | C5: UN | D5: 1473.22 | E5: 1367.89
A6: 105005 | B6: RAMPA DE ACESSIBILIDADE EM CONCRETO MOLDADO IN LOCO, EM CALÇADA PRÉ EXISTENTE COM LARGURA MENOR À 3,00 M, FCK 25MPA, COM PISO PODOTÁTIL. AF_03/2024 | C6: M2 | D6: 260.36 | E6: 240.69
A7: 105006 | B7: RAMPA DE ACESSIBILIDADE EM CONCRETO PRÉ MOLDADO, EM CALÇADA NOVA COM LARGURA MAIOR OU IGUAL À 3,00 M, FCK 25MPA, COM PISO PODOTÁTIL. AF_03/2024 | C7: UN | D7: 0 | E7: 0
A8: 104999 | B8: RAMPA DE ACESSIBILIDADE EM CONCRETO PRÉ MOLDADO, EM CALÇADA PRÉ EXISTENTE COM LARGURA MAIOR OU IGUAL À 3,00 M, FCK 25MPA, COM PISO PODOTÁTIL. AF_03/2024 | C8: UN | D8: 0 | E8: 0
A9: 105000 | B9: RAMPA DE ACESSIBILIDADE PARA ACESSO A EDIFICAÇÕES COM INCLINAÇÃO DE 8,33% EM CONCRETO MOLDADO IN LOCO, COM LARGURA DE 1,20M, FCK 25MPA, NÃO ARMADA, COM JUNTA A CADA 2M COM CORTE À SECO. AF_03/2024 | C9: M | D9: 1376.07 | E9: 1324.85
A10: 105001 | B10: RAMPA DE ACESSIBILIDADE PARA ACESSO A EDIFICAÇÕES COM INCLINAÇÃO DE 8,33% EM CONCRETO MOLDADO IN LOCO, COM LARGURA DE 1,50M, FCK 25MPA, NÃO ARMADA, COM JUNTA A CADA 2M COM CORTE À SECO. AF_03/2024 | C10: M | D10: 1412.85 | E10: 1355.93
A11: 89306 | B11: ALVENARIA ESTRUTURAL DE BLOCOS CERÂMICOS 14X19X29, (ESPESSURA DE 14 CM), UTILIZANDO COLHER DE PEDREIRO E ARGAMASSA DE ASSENTAMENTO COM PREPARO EM BETONEIRA. AF_03/2023 | C11: M2 | D11: 120.86 | E11: 109.04
A12: 89307 | B12: ALVENARIA ESTRUTURAL DE BLOCOS CERÂMICOS 14X19X29, (ESPESSURA DE 14 CM), UTILIZANDO COLHER DE PEDREIRO E ARGAMASSA DE ASSENTAMENTO COM PREPARO MANUAL. AF_03/2023 | C12: M2 | D12: 124.09 | E12: 112.25
A13: 89290 | B13: ALVENARIA ESTRUTURAL DE BLOCOS CERÂMICOS 14X19X29, (ESPESSURA DE 14 CM), UTILIZANDO PALHETA E ARGAMASSA DE ASSENTAMENTO COM PREPARO EM BETONEIRA. AF_03/2023 | C13: M2 | D13: 98.23 | E13: 88.7
... A10285: 103548 | B10285: VÁLVULA REDUTORA DE PRESSÃO DE FERRO FUNDIDO PARA REDE DE ÁGUA, DN 80 MM, JUNTA FLANGEADA. AF_12/2021 | C10285: UN | D10285: 0 | E10285: 0

Sheet SINAPI-I 03-2026
A1: Código do Insumo | B1: Descrição do Insumo | C1: Unidade | D1: RJ | E1: SP
A2: 45333 | B2: ABERTURA PARA ENCAIXE DE CUBA OU LAVATORIO EM BANCADA DE MARMORE/ GRANITO OU OUTRO TIPO DE PEDRA NATURAL | C2: UN | D2: 159.75 | E2: 189.89
A3: 11270 | B3: ABRACADEIRA DE LATAO PARA FIXACAO DE CABO PARA-RAIO, DIMENSOES 32 X 24 X 24 MM | C3: UN | D3: 3.03 | E3: 2.34
A4: 412 | B4: ABRACADEIRA DE NYLON PARA AMARRACAO DE CABOS, COMPRIMENTO DE *230* X *7,6* MM | C4: UN | D4: 0.92 | E4: 1.13
A5: 414 | B5: ABRACADEIRA DE NYLON PARA AMARRACAO DE CABOS, COMPRIMENTO DE 100 X 2,5 MM | C5: UN | D5: 0.05 | E5: 0.07
A6: 410 | B6: ABRACADEIRA DE NYLON PARA AMARRACAO DE CABOS, COMPRIMENTO DE 150 X *3,6* MM | C6: UN | D6: 0.14 | E6: 0.17
A7: 411 | B7: ABRACADEIRA DE NYLON PARA AMARRACAO DE CABOS, COMPRIMENTO DE 200 X *4,6* MM | C7: UN | D7: 0.18 | E7: 0.22
A8: 408 | B8: ABRACADEIRA DE NYLON PARA AMARRACAO DE CABOS, COMPRIMENTO DE 390 X *4,6* MM | C8: UN | D8: 0.89 | E8: 1.09
A9: 39131 | B9: ABRACADEIRA EM ACO PARA AMARRACAO DE ELETRODUTOS, TIPO D, COM 1 1/2" E CUNHA DE FIXACAO | C9: UN | D9: 4.34 | E9: 3.16
A10: 394 | B10: ABRACADEIRA EM ACO PARA AMARRACAO DE ELETRODUTOS, TIPO D, COM 1 1/2" E PARAFUSO DE FIXACAO | C10: UN | D10: 4.39 | E10: 3.2
A11: 39130 | B11: ABRACADEIRA EM ACO PARA AMARRACAO DE ELETRODUTOS, TIPO D, COM 1 1/4" E CUNHA DE FIXACAO | C11: UN | D11: 3.96 | E11: 2.88
A12: 395 | B12: ABRACADEIRA EM ACO PARA AMARRACAO DE ELETRODUTOS, TIPO D, COM 1 1/4" E PARAFUSO DE FIXACAO | C12: UN | D12: 4.23 | E12: 3.08
A13: 39129 | B13: ABRACADEIRA EM ACO PARA AMARRACAO DE ELETRODUTOS, TIPO D, COM 1" E CUNHA DE FIXACAO | C13: UN | D13: 2.44 | E13: 1.78
... A45: 36246 | B45: ACABAMENTO SIMPLES/CONVENCIONAL PARA FORRO PVC, TIPO "U" OU "C", COR BRANCA, COMPRIMENTO 6 M | C45: M | D45: 5.89 | E45: 4.08
A46: 37600 | B46: ACESSORIO DE LIGACAO NAO ELETRICO PARA CARGAS EXPLOSIVAS, TUBO DE 6 M | C46: UN | E46: 109.63
A47: 37599 | B47: ACESSORIO INICIADOR NAO ELETRICO, TUBO DE 6 M, TEMPO DE RETARDO DE *160* MS | C47: UN | E47: 102.04
A48: 1 | B48: ACETILENO - RECARGA DE GAS PARA CILINDRO (NAO INCLUI TROCA/MANUTENCAO DO CILINDRO) | C48: KG | E48: 110
A49: 3 | B49: ACIDO CLORIDRICO / ACIDO MURIATICO, DILUICAO 10% A 12% PARA USO EM LIMPEZA | C49: L | D49: 15.69 | E49: 17.46
A50: 43054 | B50: ACO CA-25, 10,0 MM, OU 12,5 MM, OU 16,0 MM, OU 20,0 MM, OU 25,0 MM, VERGALHAO | C50: KG | D50: 8.59 | E50: 6.76
A51: 42402 | B51: ACO CA-25, 16,0 MM, BARRA DE TRANSFERENCIA | C51: KG | D51: 8.21 | E51: 6.46
A52: 42403 | B52: ACO CA-25, 20,0 MM, BARRA DE TRANSFERENCIA | C52: KG | D52: 10.54 | E52: 8.29
A53: 42404 | B53: ACO CA-25, 25,0 MM, BARRA DE TRANSFERENCIA | C53: KG | D53: 10.48 | E53: 8.24
A54: 42405 | B54: ACO CA-25, 32,0 MM, BARRA DE TRANSFERENCIA | C54: KG | D54: 11.16 | E54: 8.78
A55: 34341 | B55: ACO CA-25, 32,0 MM, VERGALHAO | C55: KG | D55: 9.69 | E55: 7.62
A56: 43053 | B56: ACO CA-25, 6,3 MM OU 8,0 MM, VERGALHAO | C56: KG | D56: 7.68 | E56: 6.04
A57: 43058 | B57: ACO CA-50, 10,0 MM, OU 12,5 MM, OU 16,0 MM, OU 20,0 MM, DOBRADO E CORTADO | C57: KG | D57: 7.96 | E57: 6.26
A58: 34 | B58: ACO CA-50, 10,0 MM, VERGALHAO | C58: KG | D58: 8 | E58: 6.29
A59: 43055 | B59: ACO CA-50, 12,5 MM OU 16,0 MM, VERGALHAO | C59: KG | D59: 6.93 | E59: 5.45
A60: 43056 | B60: ACO CA-50, 20,0 MM OU 25,0 MM, VERGALHAO | C60: KG | D60: 7.99 | E60: 6.28
... A68: 43060 | B68: ACO CA-60, 8,0 MM OU 9,5 MM, VERGALHAO | C68: KG | D68: 6.59 | E68: 5.18
A69: 40410 | B69: ACOPLAMENTO RIGIDO EM FERRO FUNDIDO PARA SISTEMA DE TUBULACAO RANHURADA, DN 50 MM (2") | C69: UN | E69: 23.04
A70: 40411 | B70: ACOPLAMENTO RIGIDO EM FERRO FUNDIDO PARA SISTEMA DE TUBULACAO RANHURADA, DN 65 MM (2 1/2") | C70: UN | E70: 25
A71: 40412 | B71: ACOPLAMENTO RIGIDO EM FERRO FUNDIDO PARA SISTEMA DE TUBULACAO RANHURADA, DN 80 MM (3") | C71: UN | E71: 28.06
A72: 44254 | B72: ADAPTADOR CPVC, ROSCAVEL, COM FLANGES E ANEL DE VEDACAO, 15 MM, CAIXA D'AGUA PARA AGUA QUENTE | C72: UN | D72: 34.2 | E72: 29.89
A73: 44255 | B73: ADAPTADOR CPVC, ROSCAVEL, COM FLANGES E ANEL DE VEDACAO, 22 MM, CAIXA D'AGUA PARA AGUA QUENTE | C73: UN | D73: 37.9 | E73: 33.13
A74: 44256 | B74: ADAPTADOR CPVC, ROSCAVEL, COM FLANGES E ANEL DE VEDACAO, 28 MM, CAIXA D'AGUA PARA AGUA QUENTE | C74: UN | D74: 42.81 | E74: 37.42
A75: 44257 | B75: ADAPTADOR CPVC, ROSCAVEL, COM FLANGES E ANEL DE VEDACAO, 35 MM, CAIXA D'AGUA PARA AGUA QUENTE | C75: UN | D75: 67.73 | E75: 59.21
A76: 44258 | B76: ADAPTADOR CPVC, ROSCAVEL, COM FLANGES E ANEL DE VEDACAO, 42 MM, CAIXA D'AGUA PARA AGUA QUENTE | C76: UN | D76: 77.4 | E76: 67.66
A77: 44259 | B77: ADAPTADOR CPVC, ROSCAVEL, COM FLANGES E ANEL DE VEDACAO, 54 MM, CAIXA D'AGUA PARA AGUA QUENTE | C77: UN | D77: 106.24 | E77: 92.87
A78: 37997 | B78: ADAPTADOR CPVC, SOLDAVEL, 15 MM, PARA AGUA QUENTE | C78: UN | D78: 20.38 | E78: 17.81
...

Sheet BDI
A2: DEMONSTRATIVO DA COMPOSIÇÃO DO B.D.I.
A6: =Orçamento!A5:G5 -> PREFEITURA MUNICIPAL DO CARMO RJ | E6: =Orçamento!H5 -> DATA: Maio de 2026
A7: =Orçamento!A6:G6 -> OBRA: AMPLIAÇÃO DA ESTRATÉGIA SAÚDE DA FAMÍLIA ( ESF) ASA BRANCA - CARMO/RJ
A8: =Orçamento!A7:G7 -> LOCAL: Rua Carolina França, nº 25, Bairro Bom Pastor - Município de Carmo/RJ | E8: BDI | F8: FORMA DE EXECUÇÃO:
A9: =Orçamento!A8:G8 -> REGIÃO/MÊS DE REFERÊNCIA: EMOP-RJ - 03/2026 / SINAPI-RJ - 03/2026 | E9: 0.205 | F9: ( X ) | G9: DIRETA
A10: =Orçamento!A9:G9 -> PRAZO DE EXECUÇÃO: 06 MESES | F10: ( ) | G10: INDIRETA
A12: Bancos: | B12: =Orçamento!B11 -> EMOP - 03/2026 - Rio de Janeiro ; SINAPI - 03/2026 - Rio de Janeiro | D12: BDI: | E12: Padrão - 20,50% Material - 11,10%
A15: DEMONSTRATIVO DA COMPOSIÇÃO DO B.D.I. CONFORME ACÓRDÃO 2622 / 2013 TCU
A16: CONSTRUÇÃO, REFORMA E/OU AMPLAÇÃO
A18: TIPO | E18: ALÍQUOTA (%)
A19: AC | B19: TAXA DE RATEIO DA ADMINISTRAÇÃO CENTRAL | E19: 3
A20: S + G | B20: TAXA DE SEGURO E GARANTIA DO EMPREENDIMENTO | E20: 0.8
A21: R | B21: TAXA DE RISCO | E21: 0.97
A22: DF | B22: TAXA DE DESPESAS FINANCEIRAS | E22: 0.59
A23: L | B23: TAXA DE LUCRO | E23: 6.74
A24: I | B24: TAXA DE TRIBUTOS | C24: PIS (geralmente 0,65%) | E24: 0,65
C25: COFINS (geralmente 3,00%) | E25: 3,00
C26: ISS (legislação municipal) | E26: 3
C27: CPRB (INSS) | E27: 0
A28: * No cálculo do BDI desonerado, é considerada a alíquota de 4,50% referente ao INSS.
A29: B D I - Benefício e Despesas Indiretas
A30:  Fórmula do BDI | I30: =(ROUND((1+(E19+E20+E21)/100)*(1+E22/100)*(1+E23/100)/(1-(E24+E25+E26)/100),4))-1 -> 0.205
D32: B.D.I. 20,50%
A33: * BDI Diferenciado de 11,10% para itens de mero fornecimento de materiais e equipamentos, considerando o Acórdão 2622/2013
C37: =Orçamento!D216 -> RESPONSÁVEL TÉCNICA
C38: =Orçamento!D217 -> VANESSA DA CRUZ GOMES
C39: =Orçamento!D218 -> ENGENHEIRA CIVIL - CREA: MG 225049/D

Sheet Orçamento
A1: PLANILHA ORÇAMENTÁRIA DE CUSTOS
A5: PREFEITURA MUNICIPAL DO CARMO RJ | H5: DATA: Maio de 2026
A6: OBRA: AMPLIAÇÃO DA ESTRATÉGIA SAÚDE DA FAMÍLIA ( ESF) ASA BRANCA - CARMO/RJ
A7: LOCAL: Rua Carolina França, nº 25, Bairro Bom Pastor - Município de Carmo/RJ | H7: BDI | I7: FORMA DE EXECUÇÃO:
A8: REGIÃO/MÊS DE REFERÊNCIA: EMOP-RJ - 03/2026 / SINAPI-RJ - 03/2026 | H8: 0.205 | I8: ( X ) | J8: DIRETA
A9: PRAZO DE EXECUÇÃO: 06 MESES | I9: ( ) | J9: INDIRETA
A11: Bancos: | B11: EMOP - 03/2026 - Rio de Janeiro ; SINAPI - 03/2026 - Rio de Janeiro | F11: BDI: | G11: Padrão - 20,50% Material - 11,10%
A13: Orçamento Sintético
A14: Item | B14: Banco | C14: Código | D14: Descrição | E14: Unid. | F14: Quant. | G14: Valor Unit | H14: Valor Unit com BDI | I14: Total | J14: Peso (%)
A15: 1 | D15: ETAPAS INICIAIS | I15: =SUM(I16:I20)/2 -> 25968.78 | J15: =I15/$H$214 -> 0.075431015
A16: 1.1 | D16: ADMINISTRAÇÃO LOCAL | I16: =SUM(I17:I18) -> 24954.96 | J16: =I16/$H$214 -> 0.072486192
A17: 1.1.1 | B17: EMOP-I | C17: 01986 | D17: =IF(B17="EMOP",VLOOKUP(C17,'EMOP 03-2026'!A:D,2,0),IF(B17="EMOP-I",VLOOKUP(C17,'EMOP-I 03-2026'!A:D,2,0),IF(B17="SINAPI",VLOOKUP(C17,'SINAPI 03-2026'!A:D,2,0),IF(B17="SINAPI-I",VLOOKUP(C17,'SINAPI-I 03-2026'!A:D,2,0),0)))) -> MAO-DE-OBRA DE ENCARREGADO DE TURMA, INCLUSIVE ENCARGOS SOCIAIS | E17: =IF(B17="EMOP",VLOOKUP(C17,'EMOP 03-2026'!A:D,3,0),IF(B17="EMOP-I",VLOOKUP(C17,'EMOP-I 03-2026'!A:D,3,0),IF(B17="SINAPI",VLOOKUP(C17,'SINAPI 03-2026'!A:D,3,0),IF(B17="SINAPI-I",VLOOKUP(C17,'SINAPI-I 03-2026'!A:D,3,0),0)))) -> H | F17: ='Memória de Cálculo'!I17 -> 264 | G17: =IF(B17="EMOP",VLOOKUP(C17,'EMOP 03-2026'!A:D,4,0),IF(B17="EMOP-I",VLOOKUP(C17,'EMOP-I 03-2026'!A:D,4,0),IF(B17="SINAPI",VLOOKUP(C17,'SINAPI 03-2026'!A:D,4,0),IF(B17="SINAPI-I",VLOOKUP(C17,'SINAPI-I 03-2026'!A:D,4,0),0)))) -> 40.71 | H17: =ROUND(G17*1.205,2) -> 49.06 | I17: =ROUND(F17*H17,2) -> 12951.84 | J17: =I17/$H$214 -> 0.03762096
A18: 1.1.2 | B18: EMOP-I | C18: 01915 | D18: =IF(B18="EMOP",VLOOKUP(C18,'EMOP 03-2026'!A:D,2,0),IF(B18="EMOP-I",VLOOKUP(C18,'EMOP-I 03-2026'!A:D,2,0),IF(B18="SINAPI",VLOOKUP(C18,'SINAPI 03-2026'!A:D,2,0),IF(B18="SINAPI-I",VLOOKUP(C18,'SINAPI-I 03-2026'!A:D,2,0),0)))) -> MAO-DE-OBRA DE ENGENHEIRO OU ARQUITETO JUNIOR, INCLUSIVE ENCARGOS SOCIAIS | E18: =IF(B18="EMOP",VLOOKUP(C18,'EMOP 03-2026'!A:D,3,0),IF(B18="EMOP-I",VLOOKUP(C18,'EMOP-I 03-2026'!A:D,3,0),IF(B18="SINAPI",VLOOKUP(C18,'SINAPI 03-2026'!A:D,3,0),IF(B18="SINAPI-I",VLOOKUP(C18,'SINAPI-I 03-2026'!A:D,3,0),0)))) -> H | F18: ='Memória de Cálculo'!I18 -> 72 | G18: =IF(B18="EMOP",VLOOKUP(C18,'EMOP 03-2026'!A:D,4,0),IF(B18="EMOP-I",VLOOKUP(C18,'EMOP-I 03-2026'!A:D,4,0),IF(B18="SINAPI",VLOOKUP(C18,'SINAPI 03-2026'!A:D,4,0),IF(B18="SINAPI-I",VLOOKUP(C18,'SINAPI-I 03-2026'!A:D,4,0),0)))) -> 138.35 | H18: =ROUND(G18*1.205,2) -> 166.71 | I18: =ROUND(F18*H18,2) -> 12003.12 | J18: =I18/$H$214 -> 0.034865231
A19: 1.2 | D19: SERVIÇOS PRELIMINARES | I19: =SUM(I20:I20) -> 1013.82 | J19: =I19/$H$214 -> 0.0029448234
A20: 1.2.1 | B20: EMOP | C20: 02.020.0002-0 | D20: =IF(B20="EMOP",VLOOKUP(C20,'EMOP 03-2026'!A:D,2,0),IF(B20="EMOP-I",VLOOKUP(C20,'EMOP-I 03-2026'!A:D,2,0),IF(B20="SINAPI",VLOOKUP(C20,'SINAPI 03-2026'!A:D,2,0),IF(B20="SINAPI-I",VLOOKUP(C20,'SINAPI-I 03-2026'!A:D,2,0),0)))) -> PLACA DE IDENTIFICACAO DE OBRA PUBLICA,TIPO BANNER/PLOTTER,CONSTITUIDA POR LONA E IMPRESSAO DIGITAL,INCLUSIVE SUPORTES DE MADEIRA.FORNECIMENTO E COLOCACAO | E20: =IF(B20="EMOP",VLOOKUP(C20,'EMOP 03-2026'!A:D,3,0),IF(B20="EMOP-I",VLOOKUP(C20,'EMOP-I 03-2026'!A:D,3,0),IF(B20="SINAPI",VLOOKUP(C20,'SINAPI 03-2026'!A:D,3,0),IF(B20="SINAPI-I",VLOOKUP(C20,'SINAPI-I 03-2026'!A:D,3,0),0)))) -> M2 | F20: ='Memória de Cálculo'!I20 -> 3 | G20: =IF(B20="EMOP",VLOOKUP(C20,'EMOP 03-2026'!A:D,4,0),IF(B20="EMOP-I",VLOOKUP(C20,'EMOP-I 03-2026'!A:D,4,0),IF(B20="SINAPI",VLOOKUP(C20,'SINAPI 03-2026'!A:D,4,0),IF(B20="SINAPI-I",VLOOKUP(C20,'SINAPI-I 03-2026'!A:D,4,0),0)))) -> 280.45 | H20: =ROUND(G20*1.205,2) -> 337.94 | I20: =ROUND(F20*H20,2) -> 1013.82 | J20: =I20/$H$214 -> 0.0029448234
A21: 2 | D21: MOVIMENTAÇÃO DE TERRA, DEMOLIÇÕES E TRANSPORTES | I21: =SUM(I22:I37)/2 -> 12226.53 | J21: =I21/$H$214 -> 0.035514166
A22: 2.1 | D22: MOVIMENTAÇÃO DE TERRA | I22: =SUM(I23:I28) -> 6083.98 | J22: =I22/$H$214 -> 0.01767202
A23: 2.1.1 | B23: EMOP | C23: 03.016.0050-1 | D23: =IF(B23="EMOP",VLOOKUP(C23,'EMOP 03-2026'!A:D,2,0),IF(B23="EMOP-I",VLOOKUP(C23,'EMOP-I 03-2026'!A:D,2,0),IF(B23="SINAPI",VLOOKUP(C23,'SINAPI 03-2026'!A:D,2,0),IF(B23="SINAPI-I",VLOOKUP(C23,'SINAPI-I 03-2026'!A:D,2,0),0)))) -> ESCAVACAO MECANICA DE VALA ESCORADA,EM MATERIAL DE 1ªCATEGORIA,ATE 1,50M DE PROFUNDIDADE,UTILIZANDO RETRO-ESCAVADEIRA,EXCLUSIVE ESGOTAMENTO E ESCORAMENTO | E23: =IF(B23="EMOP",VLOOKUP(C23,'EMOP 03-2026'!A:D,3,0),IF(B23="EMOP-I",VLOOKUP(C23,'EMOP-I 03-2026'!A:D,3,0),IF(B23="SINAPI",VLOOKUP(C23,'SINAPI 03-2026'!A:D,3,0),IF(B23="SINAPI-I",VLOOKUP(C23,'SINAPI-I 03-2026'!A:D,3,0),0)))) -> M3 | F23: ='Memória de Cálculo'!I23 -> 46.3352 | G23: =IF(B23="EMOP",VLOOKUP(C23,'EMOP 03-2026'!A:D,4,0),IF(B23="EMOP-I",VLOOKUP(C23,'EMOP-I 03-2026'!A:D,4,0),IF(B23="SINAPI",VLOOKUP(C23,'SINAPI 03-2026'!A:D,4,0),IF(B23="SINAPI-I",VLOOKUP(C23,'SINAPI-I 03-2026'!A:D,4,0),0)))) -> 13.02 | H23: =ROUND(G23*1.205,2) -> 15.69 | I23: =ROUND(F23*H23,2) -> 727 | J23: =I23/$H$214 -> 0.0021117029
A24: 2.1.2 | B24: EMOP | C24: 03.001.0001-1 | D24: =IF(B24="EMOP",VLOOKUP(C24,'EMOP 03-2026'!A:D,2,0),IF(B24="EMOP-I",VLOOKUP(C24,'EMOP-I 03-2026'!A:D,2,0),IF(B24="SINAPI",VLOOKUP(C24,'SINAPI 03-2026'!A:D,2,0),IF(B24="SINAPI-I",VLOOKUP(C24,'SINAPI-I 03-2026'!A:D,2,0),0)))) -> ESCAVACAO MANUAL DE VALA/CAVA EM MATERIAL DE 1ª CATEGORIA (A(AREIA,ARGILA OU PICARRA),ATE 1,50M DE PROFUNDIDADE,EXCLUSIVE ESCORAMENTO E ESGOTAMENTO | E24: =IF(B24="EMOP",VLOOKUP(C24,'EMOP 03-2026'!A:D,3,0),IF(B24="EMOP-I",VLOOKUP(C24,'EMOP-I 03-2026'!A:D,3,0),IF(B24="SINAPI",VLOOKUP(C24,'SINAPI 03-2026'!A:D,3,0),IF(B24="SINAPI-I",VLOOKUP(C24,'SINAPI-I 03-2026'!A:D,3,0),0)))) -> M3 | F24: ='Memória de Cálculo'!I24 -> 29.7208 | G24: =IF(B24="EMOP",VLOOKUP(C24,'EMOP 03-2026'!A:D,4,0),IF(B24="EMOP-I",VLOOKUP(C24,'EMOP-I 03-2026'!A:D,4,0),IF(B24="SINAPI",VLOOKUP(C24,'SINAPI 03-2026'!A:D,4,0),IF(B24="SINAPI-I",VLOOKUP(C24,'SINAPI-I 03-2026'!A:D,4,0),0)))) -> 74.59 | H24: =ROUND(G24*1.205,2) -> 89.88 | I24: =ROUND(F24*H24,2) -> 2671.31 | J24: =I24/$H$214 -> 0.0077593027
A25: 2.1.3 | B25: SINAPI | C25: 96527 | D25: =IF(B25="EMOP",VLOOKUP(C25,'EMOP 03-2026'!A:D,2,0),IF(B25="EMOP-I",VLOOKUP(C25,'EMOP-I 03-2026'!A:D,2,0),IF(B25="SINAPI",VLOOKUP(C25,'SINAPI 03-2026'!A:D,2,0),IF(B25="SINAPI-I",VLOOKUP(C25,'SINAPI-I 03-2026'!A:D,2,0),0)))) -> ESCAVAÇÃO MANUAL PARA VIGA BALDRAME OU SAPATA CORRIDA (INCLUINDO ESCAVAÇÃO PARA COLOCAÇÃO DE FÔRMAS). AF_01/2024 | E25: =IF(B25="EMOP",VLOOKUP(C25,'EMOP 03-2026'!A:D,3,0),IF(B25="EMOP-I",VLOOKUP(C25,'EMOP-I 03-2026'!A:D,3,0),IF(B25="SINAPI",VLOOKUP(C25,'SINAPI 03-2026'!A:D,3,0),IF(B25="SINAPI-I",VLOOKUP(C25,'SINAPI-I 03-2026'!A:D,3,0),0)))) -> M3 | F25: ='Memória de Cálculo'!I25 -> 5.81 | G25: =IF(B25="EMOP",VLOOKUP(C25,'EMOP 03-2026'!A:D,4,0),IF(B25="EMOP-I",VLOOKUP(C25,'EMOP-I 03-2026'!A:D,4,0),IF(B25="SINAPI",VLOOKUP(C25,'SINAPI 03-2026'!A:D,4,0),IF(B25="SINAPI-I",VLOOKUP(C25,'SINAPI-I 03-2026'!A:D,4,0),0)))) -> 154.23 | H25: =ROUND(G25*1.205,2) -> 185.85 | I25: =ROUND(F25*H25,2) -> 1079.79 | J25: =I25/$H$214 -> 0.0031364452
A26: 2.1.4 | B26: SINAPI | C26: 101616 | D26: =IF(B26="EMOP",VLOOKUP(C26,'EMOP 03-2026'!A:D,2,0),IF(B26="EMOP-I",VLOOKUP(C26,'EMOP-I 03-2026'!A:D,2,0),IF(B26="SINAPI",VLOOKUP(C26,'SINAPI 03-2026'!A:D,2,0),IF(B26="SINAPI-I",VLOOKUP(C26,'SINAPI-I 03-2026'!A:D,2,0),0)))) -> PREPARO DE FUNDO DE VALA COM LARGURA MENOR QUE 1,5 M (ACERTO DO SOLO NATURAL), EM LOCAL COM NÍVEL BAIXO DE INTERFERÊNCIA. AF_01/2026 | E26: =IF(B26="EMOP",VLOOKUP(C26,'EMOP 03-2026'!A:D,3,0),IF(B26="EMOP-I",VLOOKUP(C26,'EMOP-I 03-2026'!A:D,3,0),IF(B26="SINAPI",VLOOKUP(C26,'SINAPI 03-2026'!A:D,3,0),IF(B26="SINAPI-I",VLOOKUP(C26,'SINAPI-I 03-2026'!A:D,3,0),0)))) -> M2 | F26: ='Memória de Cálculo'!I26 -> 12.8 | G26: =IF(B26="EMOP",VLOOKUP(C26,'EMOP 03-2026'!A:D,4,0),IF(B26="EMOP-I",VLOOKUP(C26,'EMOP-I 03-2026'!A:D,4,0),IF(B26="SINAPI",VLOOKUP(C26,'SINAPI 03-2026'!A:D,4,0),IF(B26="SINAPI-I",VLOOKUP(C26,'SINAPI-I 03-2026'!A:D,4,0),0)))) -> 11.07 | H26: =ROUND(G26*1.205,2) -> 13.34 | I26: =ROUND(F26*H26,2) -> 170.75 | J26: =I26/$H$214 -> 0.00049597424
A27: 2.1.5 | B27: EMOP | C27: 03.009.0004-0 | D27: =IF(B27="EMOP",VLOOKUP(C27,'EMOP 03-2026'!A:D,2,0),IF(B27="EMOP-I",VLOOKUP(C27,'EMOP-I 03-2026'!A:D,2,0),IF(B27="SINAPI",VLOOKUP(C27,'SINAPI 03-2026'!A:D,2,0),IF(B27="SINAPI-I",VLOOKUP(C27,'SINAPI-I 03-2026'!A:D,2,0),0)))) -> ATERRO COM MATERIAL DE 1ªCATEGORIA,COMPACTADO MANUALMENTE EMCAMADAS DE 20CM,ATE UMA ALTURA MAXIMA DE 80CM,PARA SUPORTEDE CAMADA DE CONCRETO,INCLUSIVE DOIS TIROS DE PA,ESPALHAMENTO E REGA,EXCLUSIVE FORNECIMENTO DA TERRA | E27: =IF(B27="EMOP",VLOOKUP(C27,'EMOP 03-2026'!A:D,3,0),IF(B27="EMOP-I",VLOOKUP(C27,'EMOP-I 03-2026'!A:D,3,0),IF(B27="SINAPI",VLOOKUP(C27,'SINAPI 03-2026'!A:D,3,0),IF(B27="SINAPI-I",VLOOKUP(C27,'SINAPI-I 03-2026'!A:D,3,0),0)))) -> M3 | F27: ='Memória de Cálculo'!I27 -> 5.925 | G27: =IF(B27="EMOP",VLOOKUP(C27,'EMOP 03-2026'!A:D,4,0),IF(B27="EMOP-I",VLOOKUP(C27,'EMOP-I 03-2026'!A:D,4,0),IF(B27="SINAPI",VLOOKUP(C27,'SINAPI 03-2026'!A:D,4,0),IF(B27="SINAPI-I",VLOOKUP(C27,'SINAPI-I 03-2026'!A:D,4,0),0)))) -> 98.72 | H27: =ROUND(G27*1.205,2) -> 118.96 | I27: =ROUND(F27*H27,2) -> 704.84 | J27: =I27/$H$214 -> 0.0020473352
A28: 2.1.6 | B28: EMOP | C28: 03.013.0001-1 | D28: =IF(B28="EMOP",VLOOKUP(C28,'EMOP 03-2026'!A:D,2,0),IF(B28="EMOP-I",VLOOKUP(C28,'EMOP-I 03-2026'!A:D,2,0),IF(B28="SINAPI",VLOOKUP(C28,'SINAPI 03-2026'!A:D,2,0),IF(B28="SINAPI-I",VLOOKUP(C28,'SINAPI-I 03-2026'!A:D,2,0),0)))) -> REATERRO DE VALA/CAVA COMPACTADA A MACO,EM CAMADAS DE 30CM DE ESPESSURA MAXIMA,COM MATERIAL DE BOA QUALIDADE,EXCLUSIVEESTE | E28: =IF(B28="EMOP",VLOOKUP(C28,'EMOP 03-2026'!A:D,3,0),IF(B28="EMOP-I",VLOOKUP(C28,'EMOP-I 03-2026'!A:D,3,0),IF(B28="SINAPI",VLOOKUP(C28,'SINAPI 03-2026'!A:D,3,0),IF(B28="SINAPI-I",VLOOKUP(C28,'SINAPI-I 03-2026'!A:D,3,0),0)))) -> M3 | F28: ='Memória de Cálculo'!I28 -> 13.156 | G28: =IF(B28="EMOP",VLOOKUP(C28,'EMOP 03-2026'!A:D,4,0),IF(B28="EMOP-I",VLOOKUP(C28,'EMOP-I 03-2026'!A:D,4,0),IF(B28="SINAPI",VLOOKUP(C28,'SINAPI 03-2026'!A:D,4,0),IF(B28="SINAPI-I",VLOOKUP(C28,'SINAPI-I 03-2026'!A:D,4,0),0)))) -> 46.07 | H28: =ROUND(G28*1.205,2) -> 55.51 | I28: =ROUND(F28*H28,2) -> 730.29 | J28: =I28/$H$214 -> 0.0021212593
A29: 2.2 | D29: DEMOLIÇÕES | I29: =SUM(I30:I34) -> 2750.99 | J29: =I29/$H$214 -> 0.0079907477
A30: 2.2.1 | B30: EMOP | C30: 05.001.0050-0 | D30: =IF(B30="EMOP",VLOOKUP(C30,'EMOP 03-2026'!A:D,2,0),IF(B30="EMOP-I",VLOOKUP(C30,'EMOP-I 03-2026'!A:D,2,0),IF(B30="SINAPI",VLOOKUP(C30,'SINAPI 03-2026'!A:D,2,0),IF(B30="SINAPI-I",VLOOKUP(C30,'SINAPI-I 03-2026'!A:D,2,0),0)))) -> REMOCAO DE COBERTURA EM TELHAS COLONIAIS,INCLUSIVE MADEIRAMENTO,MEDIDO O CONJUNTO PELA AREA REAL DE COBERTURA | E30: =IF(B30="EMOP",VLOOKUP(C30,'EMOP 03-2026'!A:D,3,0),IF(B30="EMOP-I",VLOOKUP(C30,'EMOP-I 03-2026'!A:D,3,0),IF(B30="SINAPI",VLOOKUP(C30,'SINAPI 03-2026'!A:D,3,0),IF(B30="SINAPI-I",VLOOKUP(C30,'SINAPI-I 03-2026'!A:D,3,0),0)))) -> M2 | F30: ='Memória de Cálculo'!I30 -> 25.83 | G30: =IF(B30="EMOP",VLOOKUP(C30,'EMOP 03-2026'!A:D,4,0),IF(B30="EMOP-I",VLOOKUP(C30,'EMOP-I 03-2026'!A:D,4,0),IF(B30="SINAPI",VLOOKUP(C30,'SINAPI 03-2026'!A:D,4,0),IF(B30="SINAPI-I",VLOOKUP(C30,'SINAPI-I 03-2026'!A:D,4,0),0)))) -> 44.53 | H30: =ROUND(G30*1.205,2) -> 53.66 | I30: =ROUND(F30*H30,2) -> 1386.04 | J30: =I30/$H$214 -> 0.0040260037
A31: 2.2.2 | B31: EMOP | C31: 05.001.0005-0 | D31: =IF(B31="EMOP",VLOOKUP(C31,'EMOP 03-2026'!A:D,2,0),IF(B31="EMOP-I",VLOOKUP(C31,'EMOP-I 03-2026'!A:D,2,0),IF(B31="SINAPI",VLOOKUP(C31,'SINAPI 03-2026'!A:D,2,0),IF(B31="SINAPI-I",VLOOKUP(C31,'SINAPI-I 03-2026'!A:D,2,0),0)))) -> DEMOLICAO MANUAL DE ALVENARIA DE PEDRA ARGAMASSADA,INCLUSIVEEMPILHAMENTO LATERAL DENTRO DO CANTEIRO DE SERVICO | E31: =IF(B31="EMOP",VLOOKUP(C31,'EMOP 03-2026'!A:D,3,0),IF(B31="EMOP-I",VLOOKUP(C31,'EMOP-I 03-2026'!A:D,3,0),IF(B31="SINAPI",VLOOKUP(C31,'SINAPI 03-2026'!A:D,3,0),IF(B31="SINAPI-I",VLOOKUP(C31,'SINAPI-I 03-2026'!A:D,3,0),0)))) -> M3 | F31: ='Memória de Cálculo'!I31 -> 1.22175 | G31: =IF(B31="EMOP",VLOOKUP(C31,'EMOP 03-2026'!A:D,4,0),IF(B31="EMOP-I",VLOOKUP(C31,'EMOP-I 03-2026'!A:D,4,0),IF(B31="SINAPI",VLOOKUP(C31,'SINAPI 03-2026'!A:D,4,0),IF(B31="SINAPI-I",VLOOKUP(C31,'SINAPI-I 03-2026'!A:D,4,0),0)))) -> 174.05 | H31: =ROUND(G31*1.205,2) -> 209.73 | I31: =ROUND(F31*H31,2) -> 256.24 | J31: =I31/$H$214 -> 0.00074429539
A32: 2.2.3 | B32: SINAPI | C32: 5795 | D32: =IF(B32="EMOP",VLOOKUP(C32,'EMOP 03-2026'!A:D,2,0),IF(B32="EMOP-I",VLOOKUP(C32,'EMOP-I 03-2026'!A:D,2,0),IF(B32="SINAPI",VLOOKUP(C32,'SINAPI 03-2026'!A:D,2,0),IF(B32="SINAPI-I",VLOOKUP(C32,'SINAPI-I 03-2026'!A:D,2,0),0)))) -> MARTELETE OU ROMPEDOR PNEUMÁTICO MANUAL, 28 KG, COM SILENCIADOR - CHP DIURNO. AF_07/2016 | E32: =IF(B32="EMOP",VLOOKUP(C32,'EMOP 03-2026'!A:D,3,0),IF(B32="EMOP-I",VLOOKUP(C32,'EMOP-I 03-2026'!A:D,3,0),IF(B32="SINAPI",VLOOKUP(C32,'SINAPI 03-2026'!A:D,3,0),IF(B32="SINAPI-I",VLOOKUP(C32,'SINAPI-I 03-2026'!A:D,3,0),0)))) -> CHP | F32: ='Memória de Cálculo'!I32 -> 1.1979432 | G32: =IF(B32="EMOP",VLOOKUP(C32,'EMOP 03-2026'!A:D,4,0),IF(B32="EMOP-I",VLOOKUP(C32,'EMOP-I 03-2026'!A:D,4,0),IF(B32="SINAPI",VLOOKUP(C32,'SINAPI 03-2026'!A:D,4,0),IF(B32="SINAPI-I",VLOOKUP(C32,'SINAPI-I 03-2026'!A:D,4,0),0)))) -> 42.42 | H32: =ROUND(G32*1.205,2) -> 51.12 | I32: =ROUND(F32*H32,2) -> 61.24 | J32: =I32/$H$214 -> 0.00017788265
A33: 2.2.4 | B33: SINAPI | C33: 97625 | D33: =IF(B33="EMOP",VLOOKUP(C33,'EMOP 03-2026'!A:D,2,0),IF(B33="EMOP-I",VLOOKUP(C33,'EMOP-I 03-2026'!A:D,2,0),IF(B33="SINAPI",VLOOKUP(C33,'SINAPI 03-2026'!A:D,2,0),IF(B33="SINAPI-I",VLOOKUP(C33,'SINAPI-I 03-2026'!A:D,2,0),0)))) -> DEMOLIÇÃO DE ALVENARIA PARA QUALQUER TIPO DE BLOCO, DE FORMA MECANIZADA, SEM REAPROVEITAMENTO. AF_09/2023 | E33: =IF(B33="EMOP",VLOOKUP(C33,'EMOP 03-2026'!A:D,3,0),IF(B33="EMOP-I",VLOOKUP(C33,'EMOP-I 03-2026'!A:D,3,0),IF(B33="SINAPI",VLOOKUP(C33,'SINAPI 03-2026'!A:D,3,0),IF(B33="SINAPI-I",VLOOKUP(C33,'SINAPI-I 03-2026'!A:D,3,0),0)))) -> M3 | F33: ='Memória de Cálculo'!I33 -> 8.8647 | G33: =IF(B33="EMOP",VLOOKUP(C33,'EMOP 03-2026'!A:D,4,0),IF(B33="EMOP-I",VLOOKUP(C33,'EMOP-I 03-2026'!A:D,4,0),IF(B33="SINAPI",VLOOKUP(C33,'SINAPI 03-2026'!A:D,4,0),IF(B33="SINAPI-I",VLOOKUP(C33,'SINAPI-I 03-2026'!A:D,4,0),0)))) -> 64.23 | H33: =ROUND(G33*1.205,2) -> 77.4 | I33: =ROUND(F33*H33,2) -> 686.13 | J33: =I33/$H$214 -> 0.0019929886
A34: 2.2.5 | B34: EMOP | C34: 05.001.0015-0 | D34: =IF(B34="EMOP",VLOOKUP(C34,'EMOP 03-2026'!A:D,2,0),IF(B34="EMOP-I",VLOOKUP(C34,'EMOP-I 03-2026'!A:D,2,0),IF(B34="SINAPI",VLOOKUP(C34,'SINAPI 03-2026'!A:D,2,0),IF(B34="SINAPI-I",VLOOKUP(C34,'SINAPI-I 03-2026'!A:D,2,0),0)))) -> DEMOLICAO DE PISO DE LADRILHO COM RESPECTIVA CAMADA DE ARGAMASSA DE ASSENTAMENTO,INCLUSIVE EMPILHAMENTO LATERAL DENTRO DO CANTEIRO DE SERVICO | E34: =IF(B34="EMOP",VLOOKUP(C34,'EMOP 03-2026'!A:D,3,0),IF(B34="EMOP-I",VLOOKUP(C34,'EMOP-I 03-2026'!A:D,3,0),IF(B34="SINAPI",VLOOKUP(C34,'SINAPI 03-2026'!A:D,3,0),IF(B34="SINAPI-I",VLOOKUP(C34,'SINAPI-I 03-2026'!A:D,3,0),0)))) -> M2 | F34: ='Memória de Cálculo'!I34 -> 14 | G34: =IF(B34="EMOP",VLOOKUP(C34,'EMOP 03-2026'!A:D,4,0),IF(B34="EMOP-I",VLOOKUP(C34,'EMOP-I 03-2026'!A:D,4,0),IF(B34="SINAPI",VLOOKUP(C34,'SINAPI 03-2026'!A:D,4,0),IF(B34="SINAPI-I",VLOOKUP(C34,'SINAPI-I 03-2026'!A:D,4,0),0)))) -> 21.42 | H34: =ROUND(G34*1.205,2) -> 25.81 | I34: =ROUND(F34*H34,2) -> 361.34 | J34: =I34/$H$214 -> 0.0010495773
A35: 2.3 | D35: CARGA, DESCARGA E TRANSPORTES | I35: =SUM(I36:I37) -> 3391.56 | J35: =I35/$H$214 -> 0.009851399
A36: 2.3.1 | B36: EMOP | C36: 04.011.0051-1 | D36: =IF(B36="EMOP",VLOOKUP(C36,'EMOP 03-2026'!A:D,2,0),IF(B36="EMOP-I",VLOOKUP(C36,'EMOP-I 03-2026'!A:D,2,0),IF(B36="SINAPI",VLOOKUP(C36,'SINAPI 03-2026'!A:D,2,0),IF(B36="SINAPI-I",VLOOKUP(C36,'SINAPI-I 03-2026'!A:D,2,0),0)))) -> CARGA E DESCARGA MECANICA,COM PA-CARREGADEIRA,COM 1,30M3 DECAPACIDADE,UTILIZANDO CAMINHAO BASCULANTE A OLEO DIESEL,COMCAPACIDADE UTIL DE 8T,CONSIDERADOS PARA O CAMINHAO OS TEMPOSDE ESPERA,MANOBRA,CARGA E DESCARGA E PARA A CARREGADEIRA OSTEMPOS DE ESPERA E OPERACAO PARA CARGAS DE 50T POR DIA DE 8H | E36: =IF(B36="EMOP",VLOOKUP(C36,'EMOP 03-2026'!A:D,3,0),IF(B36="EMOP-I",VLOOKUP(C36,'EMOP-I 03-2026'!A:D,3,0),IF(B36="SINAPI",VLOOKUP(C36,'SINAPI 03-2026'!A:D,3,0),IF(B36="SINAPI-I",VLOOKUP(C36,'SINAPI-I 03-2026'!A:D,3,0),0)))) -> T | F36: ='Memória de Cálculo'!I36 -> 108.149 | G36: =IF(B36="EMOP",VLOOKUP(C36,'EMOP 03-2026'!A:D,4,0),IF(B36="EMOP-I",VLOOKUP(C36,'EMOP-I 03-2026'!A:D,4,0),IF(B36="SINAPI",VLOOKUP(C36,'SINAPI 03-2026'!A:D,4,0),IF(B36="SINAPI-I",VLOOKUP(C36,'SINAPI-I 03-2026'!A:D,4,0),0)))) -> 14.74 | H36: =ROUND(G36*1.205,2) -> 17.76 | I36: =ROUND(F36*H36,2) -> 1920.73 | J36: =I36/$H$214 -> 0.0055791074
A37: 2.3.2 | B37: EMOP | C37: 04.005.0120-0 | D37: =IF(B37="EMOP",VLOOKUP(C37,'EMOP 03-2026'!A:D,2,0),IF(B37="EMOP-I",VLOOKUP(C37,'EMOP-I 03-2026'!A:D,2,0),IF(B37="SINAPI",VLOOKUP(C37,'SINAPI 03-2026'!A:D,2,0),IF(B37="SINAPI-I",VLOOKUP(C37,'SINAPI-I 03-2026'!A:D,2,0),0)))) -> TRANSPORTE DE CARGA DE QUALQUER NATUREZA,EXCLUSIVE AS DESPESAS DE CARGA E DESCARGA,TANTO DE ESPERA DO CAMINHAO COMO DO SERVENTE OU EQUIPAMENTO AUXILIAR,A VELOCIDADE MEDIA DE 50KM/H,EM CAMINHAO BASCULANTE A OLEO DIESEL,COM CAPACIDADE UTIL DE8T | E37: =IF(B37="EMOP",VLOOKUP(C37,'EMOP 03-2026'!A:D,3,0),IF(B37="EMOP-I",VLOOKUP(C37,'EMOP-I 03-2026'!A:D,3,0),IF(B37="SINAPI",VLOOKUP(C37,'SINAPI 03-2026'!A:D,3,0),IF(B37="SINAPI-I",VLOOKUP(C37,'SINAPI-I 03-2026'!A:D,3,0),0)))) -> T X KM | F37: ='Memória de Cálculo'!I37 -> 1081.49 | G37: =IF(B37="EMOP",VLOOKUP(C37,'EMOP 03-2026'!A:D,4,0),IF(B37="EMOP-I",VLOOKUP(C37,'EMOP-I 03-2026'!A:D,4,0),IF(B37="SINAPI",VLOOKUP(C37,'SINAPI 03-2026'!A:D,4,0),IF(B37="SINAPI-I",VLOOKUP(C37,'SINAPI-I 03-2026'!A:D,4,0),0)))) -> 1.13 | H37: =ROUND(G37*1.205,2) -> 1.36 | I37: =ROUND(F37*H37,2) -> 1470.83 | J37: =I37/$H$214 -> 0.0042722916
A38: 3 | D38: ESTRUTURAS | I38: =SUM(I39:I63)/2 -> 95317.37 | J38: =I38/$H$214 -> 0.27686653
A39: 3.1 | D39: FUNDAÇÕES - CONCRETO - SAPATAS | I39: =SUM(I40:I41) -> 12495.2 | J39: =I39/$H$214 -> 0.036294567
A40: 3.1.1 | B40: SINAPI | C40: 96616 | D40: =IF(B40="EMOP",VLOOKUP(C40,'EMOP 03-2026'!A:D,2,0),IF(B40="EMOP-I",VLOOKUP(C40,'EMOP-I 03-2026'!A:D,2,0),IF(B40="SINAPI",VLOOKUP(C40,'SINAPI 03-2026'!A:D,2,0),IF(B40="SINAPI-I",VLOOKUP(C40,'SINAPI-I 03-2026'!A:D,2,0),0)))) -> LASTRO DE CONCRETO MAGRO, APLICADO EM BLOCOS DE COROAMENTO OU SAPATAS. AF_01/2024 | E40: =IF(B40="EMOP",VLOOKUP(C40,'EMOP 03-2026'!A:D,3,0),IF(B40="EMOP-I",VLOOKUP(C40,'EMOP-I 03-2026'!A:D,3,0),IF(B40="SINAPI",VLOOKUP(C40,'SINAPI 03-2026'!A:D,3,0),IF(B40="SINAPI-I",VLOOKUP(C40,'SINAPI-I 03-2026'!A:D,3,0),0)))) -> M3 | F40: ='Memória de Cálculo'!I40 -> 0.64 | G40: =IF(B40="EMOP",VLOOKUP(C40,'EMOP 03-2026'!A:D,4,0),IF(B40="EMOP-I",VLOOKUP(C40,'EMOP-I 03-2026'!A:D,4,0),IF(B40="SINAPI",VLOOKUP(C40,'SINAPI 03-2026'!A:D,4,0),IF(B40="SINAPI-I",VLOOKUP(C40,'SINAPI-I 03-2026'!A:D,4,0),0)))) -> 941.52 | H40: =ROUND(G40*1.205,2) -> 1134.53 | I40: =ROUND(F40*H40,2) -> 726.1 | J40: =I40/$H$214 -> 0.0021090887
A41: 3.1.2 | B41: EMOP | C41: 11.013.0135-0 | D41: =IF(B41="EMOP",VLOOKUP(C41,'EMOP 03-2026'!A:D,2,0),IF(B41="EMOP-I",VLOOKUP(C41,'EMOP-I 03-2026'!A:D,2,0),IF(B41="SINAPI",VLOOKUP(C41,'SINAPI 03-2026'!A:D,2,0),IF(B41="SINAPI-I",VLOOKUP(C41,'SINAPI-I 03-2026'!A:D,2,0),0)))) -> CONCRETO ARMADO,FCK=25MPA,INCLUINDO MATERIAIS PARA 1,00M3 DECONCRETO(IMPORTADO DE USINA)ADENSADO E COLOCADO,12,00M2 DEAREA MOLDADA,FORMAS CONFORME O ITEM 11.004.0022,60KG DE ACOCA-50,INCLUSIVE MAO-DE-OBRA PARA CORTE,DOBRAGEM,MONTAGEM ECOLOCACAO NAS FORMAS,EXCLUSIVE ESCORAMENTO | E41: =IF(B41="EMOP",VLOOKUP(C41,'EMOP 03-2026'!A:D,3,0),IF(B41="EMOP-I",VLOOKUP(C41,'EMOP-I 03-2026'!A:D,3,0),IF(B41="SINAPI",VLOOKUP(C41,'SINAPI 03-2026'!A:D,3,0),IF(B41="SINAPI-I",VLOOKUP(C41,'SINAPI-I 03-2026'!A:D,3,0),0)))) -> M3 | F41: ='Memória de Cálculo'!I41 -> 3.84 | G41: =IF(B41="EMOP",VLOOKUP(C41,'EMOP 03-2026'!A:D,4,0),IF(B41="EMOP-I",VLOOKUP(C41,'EMOP-I 03-2026'!A:D,4,0),IF(B41="SINAPI",VLOOKUP(C41,'SINAPI 03-2026'!A:D,4,0),IF(B41="SINAPI-I",VLOOKUP(C41,'SINAPI-I 03-2026'!A:D,4,0),0)))) -> 2543.46 | H41: =ROUND(G41*1.205,2) -> 3064.87 | I41: =ROUND(F41*H41,2) -> 11769.1 | J41: =I41/$H$214 -> 0.034185478
A42: 3.2.01 | D42: FUNDAÇÕES - CONCRETO - ESTACAS | I42: =SUM(I43) -> 1104.32
A43: 3.2.01.1 | B43: EMOP | C43: 11.013.0135-0 | D43: =IF(B43="EMOP",VLOOKUP(C43,'EMOP 03-2026'!A:D,2,0),IF(B43="EMOP-I",VLOOKUP(C43,'EMOP-I 03-2026'!A:D,2,0),IF(B43="SINAPI",VLOOKUP(C43,'SINAPI 03-2026'!A:D,2,0),IF(B43="SINAPI-I",VLOOKUP(C43,'SINAPI-I 03-2026'!A:D,2,0),0)))) -> CONCRETO ARMADO,FCK=25MPA,INCLUINDO MATERIAIS PARA 1,00M3 DECONCRETO(IMPORTADO DE USINA)ADENSADO E COLOCADO,12,00M2 DEAREA MOLDADA,FORMAS CONFORME O ITEM 11.004.0022,60KG DE ACOCA-50,INCLUSIVE MAO-DE-OBRA PARA CORTE,DOBRAGEM,MONTAGEM ECOLOCACAO NAS FORMAS,EXCLUSIVE ESCORAMENTO | E43: =IF(B43="EMOP",VLOOKUP(C43,'EMOP 03-2026'!A:D,3,0),IF(B43="EMOP-I",VLOOKUP(C43,'EMOP-I 03-2026'!A:D,3,0),IF(B43="SINAPI",VLOOKUP(C43,'SINAPI 03-2026'!A:D,3,0),IF(B43="SINAPI-I",VLOOKUP(C43,'SINAPI-I 03-2026'!A:D,3,0),0)))) -> M3 | F43: ='Memória de Cálculo'!I43 -> 0.360315 | G43: =IF(B43="EMOP",VLOOKUP(C43,'EMOP 03-2026'!A:D,4,0),IF(B43="EMOP-I",VLOOKUP(C43,'EMOP-I 03-2026'!A:D,4,0),IF(B43="SINAPI",VLOOKUP(C43,'SINAPI 03-2026'!A:D,4,0),IF(B43="SINAPI-I",VLOOKUP(C43,'SINAPI-I 03-2026'!A:D,4,0),0)))) -> 2543.46 | H43: =ROUND(G43*1.205,2) -> 3064.87 | I43: =ROUND(F43*H43,2) -> 1104.32
A44: 3.2 | D44: FUNDAÇÕES - IMPERMEABILIZAÇÃO | I44: =SUM(I45:I46) -> 8248.68 | J44: =I44/$H$214 -> 0.023959782
A45: 3.2.1 | B45: EMOP | C45: 16.026.0010-0 | D45: =IF(B45="EMOP",VLOOKUP(C45,'EMOP 03-2026'!A:D,2,0),IF(B45="EMOP-I",VLOOKUP(C45,'EMOP-I 03-2026'!A:D,2,0),IF(B45="SINAPI",VLOOKUP(C45,'SINAPI 03-2026'!A:D,2,0),IF(B45="SINAPI-I",VLOOKUP(C45,'SINAPI-I 03-2026'!A:D,2,0),0)))) -> IMPERMEABILIZANTE DA SUPERFICIE DE CONCRETO EM PRESENCA OU NAO DE UMIDADE OU DE LENCOL FREATICO,EMPREGANDO SISTEMA PROGRESSIVO DE CRISTALIZACAO COMPOSTO DE INGREDIENTES ATIVOS QUEPENETRAM PROFUNDAMENTE NO CONCRETO POR PROCESSO CATALITICO,GERANDO CRISTAIS INSOLUVEIS DE FIBRAS DENTRITICAS NOS POROS ECAPILARIDADES | E45: =IF(B45="EMOP",VLOOKUP(C45,'EMOP 03-2026'!A:D,3,0),IF(B45="EMOP-I",VLOOKUP(C45,'EMOP-I 03-2026'!A:D,3,0),IF(B45="SINAPI",VLOOKUP(C45,'SINAPI 03-2026'!A:D,3,0),IF(B45="SINAPI-I",VLOOKUP(C45,'SINAPI-I 03-2026'!A:D,3,0),0)))) -> M2 | F45: ='Memória de Cálculo'!I45 -> 62.25 | G45: =IF(B45="EMOP",VLOOKUP(C45,'EMOP 03-2026'!A:D,4,0),IF(B45="EMOP-I",VLOOKUP(C45,'EMOP-I 03-2026'!A:D,4,0),IF(B45="SINAPI",VLOOKUP(C45,'SINAPI 03-2026'!A:D,4,0),IF(B45="SINAPI-I",VLOOKUP(C45,'SINAPI-I 03-2026'!A:D,4,0),0)))) -> 105.93 | H45: =ROUND(G45*1.205,2) -> 127.65 | I45: =ROUND(F45*H45,2) -> 7946.21 | J45: =I45/$H$214 -> 0.023081203
...

Sheet Memória de Cálculo
A1: MEMÓRIA DE CÁLCULO
A5: =Orçamento!A5:G5 -> PREFEITURA MUNICIPAL DO CARMO RJ | H5: =Orçamento!H5 -> DATA: Maio de 2026
A6: =Orçamento!A6:G6 -> OBRA: AMPLIAÇÃO DA ESTRATÉGIA SAÚDE DA FAMÍLIA ( ESF) ASA BRANCA - CARMO/RJ
A7: =Orçamento!A7:G7 -> LOCAL: Rua Carolina França, nº 25, Bairro Bom Pastor - Município de Carmo/RJ | H7: BDI | I7: FORMA DE EXECUÇÃO:
A8: =Orçamento!A8:G8 -> REGIÃO/MÊS DE REFERÊNCIA: EMOP-RJ - 03/2026 / SINAPI-RJ - 03/2026 | H8: 0.205 | I8: ( X ) | N8: DIRETA
A9: =Orçamento!A9:G9 -> PRAZO DE EXECUÇÃO: 06 MESES | I9: ( ) | N9: INDIRETA
A11: Bancos: | B11: =Orçamento!B11 -> EMOP - 03/2026 - Rio de Janeiro ; SINAPI - 03/2026 - Rio de Janeiro | F11: BDI: | G11: Padrão - 20,50% Material - 11,10%
A13: Memória de Cálculo
A14: Item | B14: Descrição | H14: Unid. | I14: Quant. | J14: C | K14: L | L14: H | M14: Área/Vol. | N14: Memória de Cálculo
A15: =Orçamento!A15 -> 1 | B15: =Orçamento!D15 -> ETAPAS INICIAIS
A16: =Orçamento!A16 -> 1.1 | B16: =Orçamento!D16 -> ADMINISTRAÇÃO LOCAL
A17: =Orçamento!A17 -> 1.1.1 | B17: =Orçamento!D17 -> MAO-DE-OBRA DE ENCARREGADO DE TURMA, INCLUSIVE ENCARGOS SOCIAIS | H17: =Orçamento!E17 -> H | I17: =2*22*6 -> 264 | N17: Encarregado do Canteiro: (44 horas / mês) 1 Encarregado x 2h por dia x 22 dias úteis por mês x 6 meses de obra = 264h
A18: =Orçamento!A18 -> 1.1.2 | B18: =Orçamento!D18 -> MAO-DE-OBRA DE ENGENHEIRO OU ARQUITETO JUNIOR, INCLUSIVE ENCARGOS SOCIAIS | H18: =Orçamento!E18 -> H | I18: =2*6*6 -> 72 | N18: Engenheiro Coordenador: (12 horas / mês) 1 Engenheiro x 2h por dia x 6 dias por mês x 6 meses de obra = 72h
A19: =Orçamento!A19 -> 1.2 | B19: =Orçamento!D19 -> SERVIÇOS PRELIMINARES
A20: =Orçamento!A20 -> 1.2.1 | B20: =Orçamento!D20 -> PLACA DE IDENTIFICACAO DE OBRA PUBLICA,TIPO BANNER/PLOTTER,CONSTITUIDA POR LONA E IMPRESSAO DIGITAL,INCLUSIVE SUPORTES DE MADEIRA.FORNECIMENTO E COLOCACAO | H20: =Orçamento!E20 -> M2 | I20: =J20*K20 -> 3 | J20: 2 | K20: 1.5 | N20: Placa de identificação de obra, seguindo os modelos municipais (ou estaduais / federais, quando aplicável). Dimensões: 2,00m x 1,50m = 3,00m²
A21: =Orçamento!A21 -> 2 | B21: =Orçamento!D21 -> MOVIMENTAÇÃO DE TERRA, DEMOLIÇÕES E TRANSPORTES
A22: =Orçamento!A22 -> 2.1 | B22: =Orçamento!D22 -> MOVIMENTAÇÃO DE TERRA
A23: =Orçamento!A23 -> 2.1.1 | B23: =Orçamento!D23 -> ESCAVACAO MECANICA DE VALA ESCORADA,EM MATERIAL DE 1ªCATEGORIA,ATE 1,50M DE PROFUNDIDADE,UTILIZANDO RETRO-ESCAVADEIRA,EXCLUSIVE ESGOTAMENTO E ESCORAMENTO | H23: =Orçamento!E23 -> M3 | I23: =M23 -> 46.3352 | M23: =34.07*1.36 -> 46.3352 | N23: ÁREA DA GARAGEM E UMA PARTE DA RAMPA NOVA(1/2)
A24: =Orçamento!A24 -> 2.1.2 | B24: =Orçamento!D24 -> ESCAVACAO MANUAL DE VALA/CAVA EM MATERIAL DE 1ª CATEGORIA (A(AREIA,ARGILA OU PICARRA),ATE 1,50M DE PROFUNDIDADE,EXCLUSIVE ESCORAMENTO E ESGOTAMENTO | H24: =Orçamento!E24 -> M3 | I24: =(20*0.8*0.8*1.2)+(0.8*0.07*6)+(4.73*1.04)+(7.15*0.48)+(2.48*0.72)+(6.48*0.6) -> 29.7208 | N24: Sapatas = 20*0,80*0,80*1,20 Estacas broca Ǿ 0,30m V=₶ .R², V= 3,14*0,15*0,15, V = 0,07, logo, Est = C*V*Q, Est = 0,80*0,07*6 Escavação rampa A = 4,73 M2 de h = 1,04M(1ºpatamar 0,32m), A= 7,15M2 de h = 0,48(média / 2ªrampa), A = 2,48M2 de h = 0,72(2º patamar 0,64m) Escavação da escada( em rampa ) A = 6,48M2*0,60M(h média escada)
A25: =Orçamento!A25 -> 2.1.3 | B25: =Orçamento!D25 -> ESCAVAÇÃO MANUAL PARA VIGA BALDRAME OU SAPATA CORRIDA (INCLUINDO ESCAVAÇÃO PARA COLOCAÇÃO DE FÔRMAS). AF_01/2024 | H25: =Orçamento!E25 -> M3 | I25: =J25*K25*L25 -> 5.81 | J25: =1.9+3.2+1.8+3.1+3+3+2.3+3.25+3.3+3.3+3.15+3.5+2.2+2.9+2.9+3.3+3.3+3.3+1.6+3.6+3.6+3+2.6+3+6.35+1.8+1.6+1.5+1.65 -> 83 | K25: 0.2 | L25: 0.35 | N25: Soma dos comprimentos das vigas(exceto V12,V14,V15, V17,V18,V23,V24), vezes largura e altura, incluindo a espessura das tábuas. 83,00*0,20*0,35
A26: =Orçamento!A26 -> 2.1.4 | B26: =Orçamento!D26 -> PREPARO DE FUNDO DE VALA COM LARGURA MENOR QUE 1,5 M (ACERTO DO SOLO NATURAL), EM LOCAL COM NÍVEL BAIXO DE INTERFERÊNCIA. AF_01/2026 | H26: =Orçamento!E26 -> M2 | I26: =J26*K26*M26 -> 12.8 | J26: 0.8 | K26: 0.8 | M26: 20 | N26: Sapatas 0,80*0,80*20
A27: =Orçamento!A27 -> 2.1.5 | B27: =Orçamento!D27 -> ATERRO COM MATERIAL DE 1ªCATEGORIA,COMPACTADO MANUALMENTE EMCAMADAS DE 20CM,ATE UMA ALTURA MAXIMA DE 80CM,PARA SUPORTEDE CAMADA DE CONCRETO,INCLUSIVE DOIS TIROS DE PA,ESPALHAMENTO E REGA,EXCLUSIVE FORNECIMENTO DA TERRA | H27: =Orçamento!E27 -> M3 | I27: =M27 -> 5.925 | M27: =(3.67*1.5)+(1.4*1.5*0.2) -> 5.925 | N27: Área 5: 3,67 (PERFIL) * 1,50 Área 6: 1,40m * 1,50m * 0,20 (desnível)
A28: =Orçamento!A28 -> 2.1.6 | B28: =Orçamento!D28 -> REATERRO DE VALA/CAVA COMPACTADA A MACO,EM CAMADAS DE 30CM DE ESPESSURA MAXIMA,COM MATERIAL DE BOA QUALIDADE,EXCLUSIVEESTE | H28: =Orçamento!E28 -> M3 | I28: =(J28*K28*L28*M28-(0.76))*1.3 -> 13.156 | J28: 0.8 | K28: 0.8 | L28: 0.85 | M28: 20 | N28: Reaterro exceto área do pilar. A= 0,15x0,30M, arranque 0,85M, Volume por pilar = 0,038M3, Volume total de 20 pilares = 0,76 M3. Tudo, multiplicado pelo fator medio de compactação 1,30
A29: =Orçamento!A29 -> 2.2 | B29: =Orçamento!D29 -> DEMOLIÇÕES | M29: M3
A30: =Orçamento!A30 -> 2.2.1 | B30: =Orçamento!D30 -> REMOCAO DE COBERTURA EM TELHAS COLONIAIS,INCLUSIVE MADEIRAMENTO,MEDIDO O CONJUNTO PELA AREA REAL DE COBERTURA | H30: =Orçamento!E30 -> M2 | I30: 25.83 | K30: 0.2 | N30: ÁREA COBERTA FUNDOS( RSS, ÁREA DE SERVIÇO E VARANDA)
A31: =Orçamento!A31 -> 2.2.2 | B31: =Orçamento!D31 -> DEMOLICAO MANUAL DE ALVENARIA DE PEDRA ARGAMASSADA,INCLUSIVEEMPILHAMENTO LATERAL DENTRO DO CANTEIRO DE SERVICO | H31: =Orçamento!E31 -> M3 | I31: =(3*1.2*0.3*0.2)+(6*1.95*0.2*0.3)+(1.35*1.5*0.15) -> 1.22175 | N31: Pilares do muro de fachada frontal( 3 U N * 1,20*,30*0,20) / Rasgos nos muros de fundos da UBS para exexcução dos novos pilares(6 UN * 1,95M*0,20*0,30) / GRADE COMPRESSOR 1,35*1,50*0,15
A32: =Orçamento!A32 -> 2.2.3 | B32: =Orçamento!D32 -> MARTELETE OU ROMPEDOR PNEUMÁTICO MANUAL, 28 KG, COM SILENCIADOR - CHP DIURNO. AF_07/2016 | H32: =Orçamento!E32 -> CHP | I32: =M32*1.137 -> 1.1979432 | M32: =(0.61*1.5)+(2.31*0.06) -> 1.0536 | N32: RAMPA 5 - ÁREA PERFIL DA RAMPA = 0,61M2, MULTIPLICADO PELA LARGURA(1,50M) = 0,92M3. PATAMAR 6 - ÁREA = 2,31M2, MULTIPLICADO PELA ESPESSURA(0,06M) =0,14M3 COEFICIENTE H PRODUTIVA = 1,137HP/M3
A33: =Orçamento!A33 -> 2.2.4 | B33: =Orçamento!D33 -> DEMOLIÇÃO DE ALVENARIA PARA QUALQUER TIPO DE BLOCO, DE FORMA MECANIZADA, SEM REAPROVEITAMENTO. AF_09/2023 | H33: =Orçamento!E33 -> M3 | I33: =M33 -> 8.8647 | M33: =SUM(7.34+7.14+1.65+4.25+2.35)*1.95*0.2 -> 8.8647 | N33: Muro fachada frontal e lateral onde será construido a garagem e a rampa nova (COMPRIMENTOS = 7,34; 7,14; 1,65; 4,25; 2,35), de H = 1,95M, e espessura de 0,20M
A34: =Orçamento!A34 -> 2.2.5 | B34: =Orçamento!D34 -> DEMOLICAO DE PISO DE LADRILHO COM RESPECTIVA CAMADA DE ARGAMASSA DE ASSENTAMENTO,INCLUSIVE EMPILHAMENTO LATERAL DENTRO DO CANTEIRO DE SERVICO | H34: =Orçamento!E34 -> M2 | I34: =M34 -> 14 | M34: 14 | N34: Sala existente dentista: 14,00m²
A35: =Orçamento!A35 -> 2.3 | B35: =Orçamento!D35 -> CARGA, DESCARGA E TRANSPORTES
A36: =Orçamento!A36 -> 2.3.1 | B36: =Orçamento!D36 -> CARGA E DESCARGA MECANICA,COM PA-CARREGADEIRA,COM 1,30M3 DECAPACIDADE,UTILIZANDO CAMINHAO BASCULANTE A OLEO DIESEL,COMCAPACIDADE UTIL DE 8T,CONSIDERADOS PARA O CAMINHAO OS TEMPOSDE ESPERA,MANOBRA,CARGA E DESCARGA E PARA A CARREGADEIRA OSTEMPOS DE ESPERA E OPERACAO PARA CARGAS DE 50T POR DIA DE 8H | H36: =Orçamento!E36 -> T | I36: =M36 -> 108.149 | M36: =((46.34+29.72+5.81-5.93-13.16)*1.3)+((5.16+1.22+8.86+1.05+1.4)*1.5) -> 108.149 | N36: 62,78 M3 = DIFERENÇA ENTRE ESCAVAÇÃO, ATERRO E REATERRO * 1,3T/m³ (peso específico) = 81,61T 17,69m³ = REMOÇÃO DA COBERTURA + DEMOLIÇÃO MANUAL DE ALVENARIA + DEMOLIÇÃO MECÂNICA+ REMOÇÃO DE PISO * 1,5T/M³ (peso específico) = 26,54T
A37: =Orçamento!A37 -> 2.3.2 | B37: =Orçamento!D37 -> TRANSPORTE DE CARGA DE QUALQUER NATUREZA,EXCLUSIVE AS DESPESAS DE CARGA E DESCARGA,TANTO DE ESPERA DO CAMINHAO COMO DO SERVENTE OU EQUIPAMENTO AUXILIAR,A VELOCIDADE MEDIA DE 50KM/H,EM CAMINHAO BASCULANTE A OLEO DIESEL,COM CAPACIDADE UTIL DE8T | H37: =Orçamento!E37 -> T X KM | I37: =L37*M37 -> 1081.49 | L37: 10 | M37: =I36 -> 108.149 | N37: IDEM ITEN 2.3.1 * 10 KM (MEDIA)
A38: =Orçamento!A38 -> 3 | B38: =Orçamento!D38 -> ESTRUTURAS
A39: =Orçamento!A39 -> 3.1 | B39: =Orçamento!D39 -> FUNDAÇÕES - CONCRETO - SAPATAS
A40: =Orçamento!A40 -> 3.1.1 | B40: =Orçamento!D40 -> LASTRO DE CONCRETO MAGRO, APLICADO EM BLOCOS DE COROAMENTO OU SAPATAS. AF_01/2024 | H40: =Orçamento!E40 -> M3 | I40: =J40*K40*L40*M40 -> 0.64 | J40: 0.8 | K40: 0.8 | L40: 0.05 | M40: 20 | N40: Sapatas
A41: =Orçamento!A41 -> 3.1.2 | B41: =Orçamento!D41 -> CONCRETO ARMADO,FCK=25MPA,INCLUINDO MATERIAIS PARA 1,00M3 DECONCRETO(IMPORTADO DE USINA)ADENSADO E COLOCADO,12,00M2 DEAREA MOLDADA,FORMAS CONFORME O ITEM 11.004.0022,60KG DE ACOCA-50,INCLUSIVE MAO-DE-OBRA PARA CORTE,DOBRAGEM,MONTAGEM ECOLOCACAO NAS FORMAS,EXCLUSIVE ESCORAMENTO | H41: =Orçamento!E41 -> M3 | I41: =J41*K41*L41*M41 -> 3.84 | J41: 0.8 | K41: 0.8 | L41: 0.3 | M41: 20 | N41: Sapatas
A42: =Orçamento!A42 -> 3.2.01 | B42: =Orçamento!D42 -> FUNDAÇÕES - CONCRETO - ESTACAS
A43: =Orçamento!A43 -> 3.2.01.1 | B43: =Orçamento!D43 -> CONCRETO ARMADO,FCK=25MPA,INCLUINDO MATERIAIS PARA 1,00M3 DECONCRETO(IMPORTADO DE USINA)ADENSADO E COLOCADO,12,00M2 DEAREA MOLDADA,FORMAS CONFORME O ITEM 11.004.0022,60KG DE ACOCA-50,INCLUSIVE MAO-DE-OBRA PARA CORTE,DOBRAGEM,MONTAGEM ECOLOCACAO NAS FORMAS,EXCLUSIVE ESCORAMENTO | H43: =Orçamento!E43 -> M3 | I43: =J43*L43*M43 -> 0.360315 | J43: 0.85 | L43: =3.14*(0.15*0.15) -> 0.07065 | M43: 6 | N43: ESTACA BROCA DIÂMETRO 0,30M.COMPRIMENTO DAS ESTACAS X AREA DO CILINDRO X QUANTIDADE
A44: =Orçamento!A44 -> 3.2 | B44: =Orçamento!D44 -> FUNDAÇÕES - IMPERMEABILIZAÇÃO
A45: =Orçamento!A45 -> 3.2.1 | B45: =Orçamento!D45 -> IMPERMEABILIZANTE DA SUPERFICIE DE CONCRETO EM PRESENCA OU NAO DE UMIDADE OU DE LENCOL FREATICO,EMPREGANDO SISTEMA PROGRESSIVO DE CRISTALIZACAO COMPOSTO DE INGREDIENTES ATIVOS QUEPENETRAM PROFUNDAMENTE NO CONCRETO POR PROCESSO CATALITICO,GERANDO CRISTAIS INSOLUVEIS DE FIBRAS DENTRITICAS NOS POROS ECAPILARIDADES | H45: =Orçamento!E45 -> M2 | I45: =(K45*J45)+(L45*J45)+(L45*J45) -> 62.25 | J45: 83 | K45: 0.15 | L45: 0.3 | N45: ÁREA DAS VIGAS BALDRAME DE SEÇÃO 0,15 X 0,30M, DOS DOIS LADOS DAS ALTURAS
...

Sheet Cronograma
A2: CRONOGRAMA FÍSICO E FINANCEIRO
A6: =Orçamento!A5:G5 -> PREFEITURA MUNICIPAL DO CARMO RJ | G6: =Orçamento!H5 -> DATA: Maio de 2026
A7: =Orçamento!A6:G6 -> OBRA: AMPLIAÇÃO DA ESTRATÉGIA SAÚDE DA FAMÍLIA ( ESF) ASA BRANCA - CARMO/RJ
A8: =Orçamento!A7:G7 -> LOCAL: Rua Carolina França, nº 25, Bairro Bom Pastor - Município de Carmo/RJ | G8: BDI | H8: FORMA DE EXECUÇÃO:
A9: =Orçamento!A8:G8 -> REGIÃO/MÊS DE REFERÊNCIA: EMOP-RJ - 03/2026 / SINAPI-RJ - 03/2026 | G9: 0.205 | H9: ( X ) | I9: DIRETA
A10: =Orçamento!A9:G9 -> PRAZO DE EXECUÇÃO: 06 MESES | H10: ( ) | I10: INDIRETA
A12: Bancos: | B12: =Orçamento!B11 -> EMOP - 03/2026 - Rio de Janeiro ; SINAPI - 03/2026 - Rio de Janeiro | G12: BDI: | H12: Padrão - 20,50% Material - 11,10%
A14: Cronograma Físico e Financeiro
A16: Item | B16: Descrição | C16: Total Por Etapa | D16: 30 DIAS | E16: 60 DIAS | F16: 90 DIAS | G16: 120 DIAS | H16: 150 DIAS | I16: 180 DIAS
A17: =Orçamento!A15 -> 1 | B17: =Orçamento!D15 -> ETAPAS INICIAIS | C17: =SUM(D17:I17) -> 1 | D17: 0.2 | E17: 0.16 | F17: 0.16 | G17: 0.16 | H17: 0.16 | I17: 0.16
C18: =Orçamento!I15 -> 25968.78 | D18: =D17*$C$18 -> 5193.756 | E18: =E17*$C$18 -> 4155.0048 | F18: =F17*$C$18 -> 4155.0048 | G18: =G17*$C$18 -> 4155.0048 | H18: =H17*$C$18 -> 4155.0048 | I18: =I17*$C$18 -> 4155.0048
A19: =Orçamento!A21 -> 2 | B19: =Orçamento!D21 -> MOVIMENTAÇÃO DE TERRA, DEMOLIÇÕES E TRANSPORTES | C19: =SUM(D19:I19) -> 1 | D19: 1
C20: =Orçamento!I21 -> 12226.53 | D20: =D19*$C$20 -> 12226.53 | E20: =E19*$C$20 -> 0 | F20: =F19*$C$20 -> 0 | G20: =G19*$C$20 -> 0 | H20: =H19*$C$20 -> 0 | I20: =I19*$C$20 -> 0
A21: =Orçamento!A38 -> 3 | B21: =Orçamento!D38 -> ESTRUTURAS | C21: =SUM(D21:I21) -> 1 | D21: 0.15 | E21: 0.35 | F21: 0.5
C22: =Orçamento!I38 -> 95317.37 | D22: =D21*$C$22 -> 14297.606 | E22: =E21*$C$22 -> 33361.08 | F22: =F21*$C$22 -> 47658.685 | G22: =G21*$C$22 -> 0 | H22: =H21*$C$22 -> 0 | I22: =I21*$C$22 -> 0
A23: =Orçamento!A64 -> 4 | B23: =Orçamento!D64 -> VEDAÇÃO VERTICAL | C23: =SUM(D23:I23) -> 1 | E23: 0.6 | F23: 0.4
C24: =Orçamento!I64 -> 17630.43 | D24: =D23*$C$24 -> 0 | E24: =E23*$C$24 -> 10578.258 | F24: =F23*$C$24 -> 7052.172 | G24: =G23*$C$24 -> 0 | H24: =H23*$C$24 -> 0 | I24: =I23*$C$24 -> 0
A25: =Orçamento!A69 -> 5 | B25: =Orçamento!D69 -> INSTALAÇÕES HIDROSSANITÁRIAS | C25: =SUM(D25:I25) -> 1 | E25: 0.5 | F25: 0.5
C26: =Orçamento!I69 -> 26945.87 | D26: =D25*$C$26 -> 0 | E26: =E25*$C$26 -> 13472.935 | F26: =F25*$C$26 -> 13472.935 | G26: =G25*$C$26 -> 0 | H26: =H25*$C$26 -> 0 | I26: =I25*$C$26 -> 0
A27: =Orçamento!A107 -> 6 | B27: =Orçamento!D107 -> INSTALAÇÕES ELÉTRICAS | C27: =SUM(D27:I27) -> 1 | F27: 0.2 | G27: 0.8
C28: =Orçamento!I107 -> 11506.42 | D28: =D27*$C$28 -> 0 | E28: =E27*$C$28 -> 0 | F28: =F27*$C$28 -> 2301.284 | G28: =G27*$C$28 -> 9205.136 | H28: =H27*$C$28 -> 0 | I28: =I27*$C$28 -> 0
A29: =Orçamento!A135 -> 7 | B29: =Orçamento!D135 -> REVESTIMENTOS E FORROS | C29: =SUM(D29:I29) -> 1 | G29: 1
C30: =Orçamento!I135 -> 57230.715 | D30: =D29*$C$30 -> 0 | E30: =E29*$C$28 -> 0 | F30: =F29*$C$28 -> 0 | G30: =G29*$C$28 -> 11506.42 | H30: =H29*$C$28 -> 0 | I30: =I29*$C$28 -> 0
A31: =Orçamento!A154 -> 8 | B31: =Orçamento!D154 -> COBERTURA | C31: =SUM(D31:I31) -> 1 | G31: 1
C32: =Orçamento!I154 -> 18761.95 | D32: =D31*$C$32 -> 0 | E32: =E31*$C$32 -> 0 | F32: =F31*$C$32 -> 0 | G32: =G31*$C$32 -> 18761.95 | H32: =H31*$C$32 -> 0 | I32: =I31*$C$32 -> 0
A33: =Orçamento!A162 -> 9 | B33: =Orçamento!D162 -> ESQUADRIAS | C33: =SUM(D33:I33) -> 1 | G33: 0.3 | H33: 0.3 | I33: 0.4
C34: =Orçamento!I162 -> 30924.38 | D34: =D33*$C$34 -> 0 | E34: =E33*$C$34 -> 0 | F34: =F33*$C$34 -> 0 | G34: =G33*$C$34 -> 9277.314 | H34: =H33*$C$34 -> 9277.314 | I34: =I33*$C$34 -> 12369.752
A35: =Orçamento!A176 -> 10 | B35: =Orçamento!D176 -> ACABAMENTOS | C35: =SUM(D35:I35) -> 1 | H35: 0.5 | I35: 0.5
C36: =Orçamento!I176 -> 36285.76 | D36: =D35*$C$36 -> 0 | E36: =E35*$C$36 -> 0 | F36: =F35*$C$36 -> 0 | G36: =G35*$C$36 -> 0 | H36: =H35*$C$36 -> 18142.88 | I36: =I35*$C$36 -> 18142.88
A37: =Orçamento!A192 -> 11 | B37: =Orçamento!D192 -> PAVIMENTAÇÃO EXTERNA | C37: =SUM(D37:I37) -> 1 | H37: 0.5 | I37: 0.5
C38: =Orçamento!I192 -> 5440.18 | D38: =D37*$C$38 -> 0 | E38: =E37*$C$38 -> 0 | F38: =F37*$C$38 -> 0 | G38: =G37*$C$38 -> 0 | H38: =H37*$C$38 -> 2720.09 | I38: =I37*$C$38 -> 2720.09
A39: =Orçamento!A197 -> 12 | B39: =Orçamento!D197 -> SERVIÇOS COMPLEMENTARES | C39: =SUM(D39:I39) -> 1 | G39: 1
C40: =Orçamento!I197 -> 6033.53 | D40: =D39*$C$40 -> 0 | E40: =E39*$C$40 -> 0 | F40: =F39*$C$40 -> 0 | G40: =G39*$C$40 -> 6033.53 | H40: =H39*$C$40 -> 0 | I40: =I39*$C$40 -> 0
A41: Porcentagem Período | D41: =D42/$C$44 -> 0.092130348 | E41: =E42/$C$44 -> 0.17883328 | F41: =F42/$C$44 -> 0.2168056 | G41: =G42/$C$44 -> 0.17120001 | H41: =H42/$C$44 -> 0.099616865 | I41: =I42/$C$44 -> 0.10859941
A42: Custo Período | D42: =SUMIF(D17:D40,">1") -> 31717.892 | E42: =SUMIF(E17:E40,">1") -> 61567.277 | F42: =SUMIF(F17:F40,">1") -> 74640.081 | G42: =SUMIF(G17:G40,">1") -> 58939.355 | H42: =SUMIF(H17:H40,">1") -> 34295.289 | I42: =SUMIF(I17:I40,">1") -> 37387.727
A43: Porcentagem Acumulado | C43: 1 | D43: =D44/$C$44 -> 0.092130348 | E43: =E44/$C$44 -> 0.17883328 | F43: =F44/$C$44 -> 0.2168056 | G43: =G44/$C$44 -> 0.17120001 | H43: =H44/$C$44 -> 0.099616865 | I43: =I44/$C$44 -> 0.10859941
A44: Custo Acumulado | C44: =SUMIF(C17:C40,">1") -> 344271.92 | D44: =D42 -> 31717.892 | E44: =E42 -> 61567.277 | F44: =F42 -> 74640.081 | G44: =G42 -> 58939.355 | H44: =H42 -> 34295.289 | I44: =I42 -> 37387.727
B50: =Orçamento!D216 -> RESPONSÁVEL TÉCNICA
B51: =Orçamento!D217 -> VANESSA DA CRUZ GOMES
B52: =Orçamento!D218 -> ENGENHEIRA CIVIL - CREA: MG 225049/D

Sheet Cotações
A2: COTAÇÕES DE MERCADO
A6: =Orçamento!A5:G5 -> PREFEITURA MUNICIPAL DO CARMO RJ | D6: DATA: Abril de 2026
A7: SERVIÇO: FORNECIMENTO DE DOIS PLAYGROUNDS EM PRAÇAS
A8: LOCAL: Praça osmar Ribeiro da Silva, bairro Botafogo; e Praça Alexandre de Melo, bairro Centro, Carmo-RJ | E8: FORMA DE EXECUÇÃO:
A9: REGIÃO/MÊS DE REFERÊNCIA: RIO DE JANEIRO - 04/2026 | E9: ( X ) | F9: DIRETA
A10: PRAZO DE EXECUÇÃO: 01 MÊS | E10: ( ) | F10: INDIRETA
A15: Cronograma Físico e Financeiro
A16: Item | B16: Descrição | C16: Total Por Etapa | D16: 30 DIAS | E16: 60 DIAS | F16: 90 DIAS
A17: =Orçamento!A15 -> 1 | B17: =Orçamento!D15 -> ETAPAS INICIAIS | C17: =SUM(D17:F17) -> 1 | D17: 0.3333 | E17: 0.3333 | F17: 0.3334
C18: =Orçamento!I15 -> 25968.78 | D18: =D17*$C$18 -> 8655.3944 | E18: =E17*$C$18 -> 8655.3944 | F18: =F17*$C$18 -> 8657.9913
A19: =Orçamento!A19 -> 1.2 | B19: =Orçamento!D19 -> SERVIÇOS PRELIMINARES | C19: =SUM(D19:F19) -> 1 | D19: 1
C20: =Orçamento!I19 -> 1013.82 | D20: =D19*$C$20 -> 1013.82
A21: =Orçamento!#REF! -> #REF! | B21: =Orçamento!#REF! -> #REF! | C21: =SUM(D21:F21) -> 1 | D21: 1
C22: =Orçamento!#REF! -> #REF! | D22: =D21*$C$22 -> #REF!
A23: =Orçamento!#REF! -> #REF! | B23: =Orçamento!#REF! -> #REF! | C23: =SUM(D23:F23) -> 1 | D23: 1
C24: =Orçamento!#REF! -> #REF! | D24: =D23*$C$24 -> #REF!
A25: =Orçamento!#REF! -> #REF! | B25: =Orçamento!#REF! -> #REF! | C25: =SUM(D25:F25) -> 1 | D25: 0.5 | E25: 0.5
C26: =Orçamento!#REF! -> #REF! | D26: =D25*$C$26 -> #REF! | E26: =E25*$C$26 -> #REF!
A27: =Orçamento!#REF! -> #REF! | B27: =Orçamento!#REF! -> #REF! | C27: =SUM(D27:F27) -> 1 | E27: 1
C28: =Orçamento!#REF! -> #REF! | E28: =E27*$C$28 -> #REF!
A29: =Orçamento!#REF! -> #REF! | B29: =Orçamento!#REF! -> #REF! | C29: =SUM(D29:F29) -> 1 | D29: 0.5 | E29: 0.5
C30: =Orçamento!#REF! -> #REF! | D30: =D29*$C$30 -> #REF! | E30: =E29*$C$30 -> #REF!
A31: =Orçamento!#REF! -> #REF! | B31: =Orçamento!#REF! -> #REF! | C31: =SUM(D31:F31) -> 1 | D31: 1
C32: =Orçamento!#REF! -> #REF! | D32: =D31*$C$32 -> #REF!
A33: =Orçamento!#REF! -> #REF! | B33: =Orçamento!#REF! -> #REF! | C33: =SUM(D33:F33) -> 1 | D33: 0.5 | E33: 0.5
C34: =Orçamento!#REF! -> #REF! | D34: =D33*$C$34 -> #REF! | E34: =E33*$C$34 -> #REF!
A35: =Orçamento!#REF! -> #REF! | B35: =Orçamento!#REF! -> #REF! | C35: =SUM(D35:F35) -> 1 | E35: 0.5 | F35: 0.5
C36: =Orçamento!#REF! -> #REF! | E36: =E35*$C$36 -> #REF! | F36: =F35*$C$36 -> #REF!
A37: =Orçamento!#REF! -> #REF! | B37: =Orçamento!#REF! -> #REF! | C37: =SUM(D37:F37) -> 1 | F37: 1
C38: =Orçamento!#REF! -> #REF! | F38: =F37*$C$38 -> #REF!
A39: =Orçamento!#REF! -> #REF! | B39: =Orçamento!#REF! -> #REF! | C39: =SUM(D39:F39) -> 1 | F39: 1
C40: =Orçamento!#REF! -> #REF! | F40: =F39*$C$40 -> #REF!
A41: =Orçamento!#REF! -> #REF! | B41: =Orçamento!#REF! -> #REF! | C41: =SUM(D41:F41) -> 1 | F41: 1
C42: =Orçamento!#REF! -> #REF! | F42: =F41*$C$42 -> #REF!
A43: =Orçamento!#REF! -> #REF! | B43: =Orçamento!#REF! -> #REF! | C43: =SUM(D43:F43) -> 1 | F43: 1
C44: =Orçamento!#REF! -> #REF! | F44: =F43*$C$44 -> #REF!
A45: Porcentagem Período | D45: =D46/$C$48 -> 0.35834999 | E45: =E46/$C$48 -> 0.32077688 | F45: =F46/$C$48 -> 0.32087313
A46: Custo Período | D46: =SUMIF(D17:D44,">1") -> 9669.2144 | E46: =SUMIF(E17:E44,">1") -> 8655.3944 | F46: =SUMIF(F17:F44,">1") -> 8657.9913
